BEGIN:VCALENDAR
VERSION:2.0
PRODID:-//Rosenwaldhof - ECPv4.8//NONSGML v1.0//EN
CALSCALE:GREGORIAN
METHOD:PUBLISH
X-WR-CALNAME:Rosenwaldhof
X-ORIGINAL-URL:https://www.rosenwaldhof.de
X-WR-CALDESC:Veranstaltungen für Rosenwaldhof
BEGIN:VEVENT
DTSTART;VALUE=DATE:20180302
DTEND;VALUE=DATE:20180305
DTSTAMP:20260420T042107
CREATED:20171117T170124Z
LAST-MODIFIED:20171120T105023Z
UID:2471-1519948800-1520207999@www.rosenwaldhof.de
SUMMARY:Fachausbildung Yogatherapie von 3HO
DESCRIPTION:
URL:https://www.rosenwaldhof.de/event/yogatherapie-mit-eva-pawlas/
LOCATION:Rosenwaldhof\, Bergstraße 2\, Groß Kreutz (Havel)\, 14550\, Deutschland
GEO:52.4428131;12.7341275
X-APPLE-STRUCTURED-LOCATION;VALUE=URI;X-ADDRESS=Rosenwaldhof Bergstraße 2 Groß Kreutz (Havel) 14550 Deutschland;X-APPLE-RADIUS=500;X-TITLE=Bergstraße 2:geo:12.7341275,52.4428131
CATEGORIES:Yoga
ORGANIZER;CN="3HO%20Fachausbildung%20Yogatherapie":MAILTO:yogatherapie@3ho.de
END:VEVENT
END:VCALENDAR