BEGIN:VCALENDAR
VERSION:2.0
PRODID:-//Rosenwaldhof - ECPv4.8//NONSGML v1.0//EN
CALSCALE:GREGORIAN
METHOD:PUBLISH
X-WR-CALNAME:Rosenwaldhof
X-ORIGINAL-URL:https://www.rosenwaldhof.de
X-WR-CALDESC:Veranstaltungen für Rosenwaldhof
BEGIN:VEVENT
DTSTART;VALUE=DATE:20190614
DTEND;VALUE=DATE:20190617
DTSTAMP:20260419T202635
CREATED:20190125T194837Z
LAST-MODIFIED:20190531T124136Z
UID:3044-1560470400-1560729599@www.rosenwaldhof.de
SUMMARY:Yoga Meets Qigong
DESCRIPTION:„ Auf Herzfrequenz senden und empfangen…“\nDie Besonderheit von „Yoga meets Qi Gong“ liegt in seiner ausgewogenen Kombination von dynamischen Kundalini Yogaübungen und meditativen Übungen aus dem medizinischen Qi Gong mit anschließender Energieübertragung.\nDieser Workshop stellt in der Kombination von praktischen Übungen aus Yoga\, Qi Gong und dem hawaiianischen Ho’oponopono ein wirkungsvolles Selbstheilungs- und Konfliktlösungs-Verfahren vor\, das auf dynamisch-meditative Weise zu mehr Erfolg\, Gesundheit und Freude im Leben verhelfen kann. Spezielle Übungsreihen aus dem Kundalini Yoga aktivieren die Selbstheilungskräfte und bereiten auf die Herz-Meditation vor. Ho’oponopono (hawaiianisch etwa: „in Ordnung bringen“) ist im Ursprung als Prozess der Vergebung und Akzeptanz angelegt. Als Entspannungsmethode soll es zur Wiederherstellung des eigenen inneren Gleichgewichts beitragen. \nBesonderes Highlight: Bauchtanz und Pilates mit Gastdozentin Mascha Düben \n  \nLeitung & Anmeldung:\nSolaya Nadja von Ribbeck\n \n\n\n\nSeit vielen Jahren unterrichte ich Kundalini Yoga\, Tian Ai Qi Gong und Meditation in Kursen\, Workshops und Seminaren.\nAuf diesem Weg erhoffe ich mir im größeren Umfang Kinder und Erwachsene mit meinem Wissen und meinen Erfahrungen zu inspirieren. Es ist mir ein tiefes Bedürfnis Menschen dabei zu unterstützen\, mehr Freude und Enthusiasmus beim Üben und im Alltag für sich zu entwickeln.\nMit meiner Lebensfreude und durch meine Gaben möchte ich Interessierte motivieren\, neue Verhaltensstrukturen\, Werte und Visionen für mehr Gesundheit und Sinn in ihrem Leben zu entwickeln. \n\n\n\n  \nProgramm: \nFreitag \n17:30-18:30 Uhr: Begrüßungsrunde mit Mascha & Solaya\n18:30 Uhr: Gemeinsames Abendessen\n19:30-20:30 Uhr: Yoga meets Qi Gong 1 mit Solaya\n20:30-21:30 Uhr: Bauchtanz mit Mascha \nSamstag \n07:30-8:30 Uhr: Kundalini Yoga fürs Herz mit Solaya\n08:30 Uhr: Frühstück\n10:00-11:15 Uhr: Yoga meets Qi Gong 2 mit Solaya\n11:15-12:15 Uhr: Pilates mit Yogaelementen mit Mascha\n12:30 Uhr: Mittagessen\n13:30-15:30 Uhr: Pause\n15:30-16:30 Uhr: Pilates mit Yogaelementen + Füße Spezial mit Mascha\n17:15-18:15 Uhr: Yoga meets Qi Gong 2 und Ho’oponopono mit Solaya\n18:30 Uhr: Abendessen\n20:00-21:30 Uhr: Meditativ-energetischer Tanz – 5 Rhythmen \nSonntag \n07:30-08:30 Uhr: Kundalini Yoga fürs Herz mit Solaya\n08:30 Uhr: Frühstück\n10:00-11:30 Uhr: Yoga meets Qi Gong 4 und Herzmeditation mit Solaya\n11:30-12:30 Uhr: Pilates mit Yogaelementen mit Mascha\n12:30 Uhr: Mittagessen\n14:00 Uhr: Abreise\, Auf Wiedersehen \nKosten: \nSeminargebühr 130 € \nzzgl. Übernachtung und Verpflegung ab 126 €\, je nach Zimmerkategorie\, für das ganze Wochenende \n  \n\nBitte melden Sie sich für das Seminar direkt beim Veranstalter an. Ihr Zimmer im Rosenwaldhof reservieren Sie bitte mit folgendem Link. \n[vc_row][vc_column][vc_tta_accordion c_position=“right“ active_section=“1000″ collapsible_all=“true“][vc_tta_section title=“Zimmerreservierung bitte hier klicken.“ tab_id=“1484146577277-3de1b8b1-a9bd“][vc_column_text]\n\n\n\n\n\n\n\n\n\n Ihr Vorname (Pflichtfeld)\n      \n Ihr Nachname (Pflichtfeld)\n      \n Strasse (Pflichtfeld)\n      \n Postleitzahl (Pflichtfeld)\n      \n Ort (Pflichtfeld)\n      \n Telefon (Pflichtfeld)\n      \n Ihre E-Mail-Adresse (Pflichtfeld)\n      \nMein Zimmerwunsch 1 (bitte wählen)Einzelzimmer mit BadEinzelzimmer mit EtagenbadDoppelzimmer mit Bad \nMein Zimmerwunsch 2 (bitte wählen)Einzelzimmer mit BadEinzelzimmer mit EtagenbadDoppelzimmer mit Bad \nIch buche die Unterkunft und Verpflegung entsprechend den Vorgaben des SeminarveranstaltersIch habe besondere Hinweise zu meiner An-/Abreise\, Verpflegung oder Weiterem und teile diese im folgenden mit: \n Ihre Nachricht\n      \nBitte lasse dieses Feld leer. \nIch bestätige\, dass ich die Zimmerreservierung auf Basis der gültigen Preisliste und Stornierungsbedingungen durchführe. (https://www.rosenwaldhof.de/preise-und-stornierungsbedingungen/) (Pflichtfeld) \nIch bestätige\, dass ich die Datenschutzerklärung des Rosenwaldhof gelesen habe und sie akzeptiere. (https://www.rosenwaldhof.de/datenschutz-ds-gvo/) (Pflichtfeld) \nBitte beantworten Sie folgende Spamschutz-Frage: 20 plus 50 =  \n \n[/vc_column_text][/vc_tta_section][/vc_tta_accordion][/vc_column][/vc_row] 
URL:https://www.rosenwaldhof.de/event/yogameetsqigong1906/
LOCATION:Rosenwaldhof\, Bergstr. 2\, Groß Kreutz\, 14550\, Deutschland
GEO:52.4427558;12.7339338
X-APPLE-STRUCTURED-LOCATION;VALUE=URI;X-ADDRESS=Rosenwaldhof Bergstr. 2 Groß Kreutz 14550 Deutschland;X-APPLE-RADIUS=500;X-TITLE=Bergstr. 2:geo:12.7339338,52.4427558
CATEGORIES:Meditation,Taiji/Qigong,Yoga
ATTACH;FMTTYPE=image/jpeg:https://www.rosenwaldhof.de/wp-content/uploads/2019/01/solaya-herzfrequenz.jpg
ORGANIZER;CN="Solaya%20Nadja%20von%20Ribbeck":MAILTO:solaya65@web.de
END:VEVENT
END:VCALENDAR