BEGIN:VCALENDAR
VERSION:2.0
PRODID:-//Rosenwaldhof - ECPv4.8//NONSGML v1.0//EN
CALSCALE:GREGORIAN
METHOD:PUBLISH
X-WR-CALNAME:Rosenwaldhof
X-ORIGINAL-URL:https://www.rosenwaldhof.de
X-WR-CALDESC:Veranstaltungen für Rosenwaldhof
BEGIN:VEVENT
DTSTART;VALUE=DATE:20190322
DTEND;VALUE=DATE:20190325
DTSTAMP:20260419T172603
CREATED:20190125T194339Z
LAST-MODIFIED:20190125T194804Z
UID:3040-1553212800-1553471999@www.rosenwaldhof.de
SUMMARY:Yoga Meets Qigong
DESCRIPTION:„Tanke Energie für mehr Lebensfreude“ \nDynamik\, Meditation und Energieübertragung \n  \n \n„Yoga meets Qi Gong“ ist eine harmonische Lebensweise\, die uns wieder mit dem Universum und unseren Herzen verbindet… \nDie Besonderheit von „Yoga meets Qi Gong“ liegt in seiner ausgewogenen Kombination von dynamischen Kundalini Yogaübungen und meditativen Übungen aus dem medizinischen Qi Gong mit anschließender Energieübertragung. \nDieser Workshop stellt in der Kombination von praktischen Übungen aus Yoga\, Qi Gong und dem hawaiianischen Ho’oponopono ein wirkungsvolles Selbstheilungs- und Konfliktlösungs-Verfahren vor\, das auf dynamisch-meditative Weise zu mehr Erfolg\, Gesundheit und Freude im Leben verhelfen soll. Spezielle Übungsreihen aktivieren die Selbstheilungskräfte und bereiten auf die Herz-Meditation vor. Ho’oponopono (hawaiianisch etwa: „in Ordnung bringen“) ist im Ursprung als Prozess der Vergebung und Akzeptanz angelegt. Als Entspannungsmethode soll es zur Wiederherstellung des eigenen inneren Gleichgewichts beitragen. \nBesonderes Highlight: wir wollen gemeinsam in der Natur praktizieren und am Lagerfeuer meditieren. \n  \nKosten: \nSeminargebühr 130 € bzw. 110 € Frühbucherrabatt (bis 15.02.19 buchen) \nzzgl. ab 126 € Ü+V je nach Zimmerkategorie für das ganze Wochenende \n  \n  \n\nBitte melden Sie sich für das Seminar direkt beim Veranstalter an. Ihr Zimmer im Rosenwaldhof reservieren Sie bitte mit folgendem Link. \n[vc_row][vc_column][vc_tta_accordion c_position=“right“ active_section=“1000″ collapsible_all=“true“][vc_tta_section title=“Zimmerreservierung bitte hier klicken.“ tab_id=“1484146577277-3de1b8b1-a9bd“][vc_column_text]\n\n\n\n\n\n\n\n\n\n Ihr Vorname (Pflichtfeld)\n      \n Ihr Nachname (Pflichtfeld)\n      \n Strasse (Pflichtfeld)\n      \n Postleitzahl (Pflichtfeld)\n      \n Ort (Pflichtfeld)\n      \n Telefon (Pflichtfeld)\n      \n Ihre E-Mail-Adresse (Pflichtfeld)\n      \nMein Zimmerwunsch 1 (bitte wählen)Einzelzimmer mit BadEinzelzimmer mit EtagenbadDoppelzimmer mit Bad \nMein Zimmerwunsch 2 (bitte wählen)Einzelzimmer mit BadEinzelzimmer mit EtagenbadDoppelzimmer mit Bad \nIch buche die Unterkunft und Verpflegung entsprechend den Vorgaben des SeminarveranstaltersIch habe besondere Hinweise zu meiner An-/Abreise\, Verpflegung oder Weiterem und teile diese im folgenden mit: \n Ihre Nachricht\n      \nBitte lasse dieses Feld leer. \nIch bestätige\, dass ich die Zimmerreservierung auf Basis der gültigen Preisliste und Stornierungsbedingungen durchführe. (https://www.rosenwaldhof.de/preise-und-stornierungsbedingungen/) (Pflichtfeld) \nIch bestätige\, dass ich die Datenschutzerklärung des Rosenwaldhof gelesen habe und sie akzeptiere. (https://www.rosenwaldhof.de/datenschutz-ds-gvo/) (Pflichtfeld) \nBitte beantworten Sie folgende Spamschutz-Frage: 10 plus 20 =  \n \n[/vc_column_text][/vc_tta_section][/vc_tta_accordion][/vc_column][/vc_row] 
URL:https://www.rosenwaldhof.de/event/yogameetsqigong1903/
LOCATION:Rosenwaldhof\, Bergstr. 2\, Groß Kreutz\, 14550\, Deutschland
GEO:52.4427558;12.7339338
X-APPLE-STRUCTURED-LOCATION;VALUE=URI;X-ADDRESS=Rosenwaldhof Bergstr. 2 Groß Kreutz 14550 Deutschland;X-APPLE-RADIUS=500;X-TITLE=Bergstr. 2:geo:12.7339338,52.4427558
CATEGORIES:Meditation,Taiji/Qigong,Yoga
ATTACH;FMTTYPE=image/png:https://www.rosenwaldhof.de/wp-content/uploads/2017/09/Solaya-Strand-e1521644714909.png
ORGANIZER;CN="Solaya%20Nadja%20von%20Ribbeck":MAILTO:solaya65@web.de
END:VEVENT
END:VCALENDAR