BEGIN:VCALENDAR
VERSION:2.0
PRODID:-//Rosenwaldhof - ECPv4.8//NONSGML v1.0//EN
CALSCALE:GREGORIAN
METHOD:PUBLISH
X-WR-CALNAME:Rosenwaldhof
X-ORIGINAL-URL:https://www.rosenwaldhof.de
X-WR-CALDESC:Veranstaltungen für Rosenwaldhof
BEGIN:VEVENT
DTSTART;VALUE=DATE:20220420
DTEND;VALUE=DATE:20220425
DTSTAMP:20260419T155023
CREATED:20220222T115000Z
LAST-MODIFIED:20220222T115000Z
UID:4852-1650412800-1650844799@www.rosenwaldhof.de
SUMMARY:YogalehrerInnenausbildung
DESCRIPTION:YogalehrerInnenausbildung 
URL:https://www.rosenwaldhof.de/event/yogalehrerinnenausbildung/
LOCATION:Rosenwaldhof\, Bergstraße 2\, Groß Kreutz (Havel)\, 14550\, Deutschland
GEO:52.4428131;12.7341275
X-APPLE-STRUCTURED-LOCATION;VALUE=URI;X-ADDRESS=Rosenwaldhof Bergstraße 2 Groß Kreutz (Havel) 14550 Deutschland;X-APPLE-RADIUS=500;X-TITLE=Bergstraße 2:geo:12.7341275,52.4428131
CATEGORIES:geschlossene Gruppe,Yoga
ATTACH;FMTTYPE=image/jpeg:https://www.rosenwaldhof.de/wp-content/uploads/2022/02/kraniche3.jpg
ORGANIZER;CN="Sylvia%20Zeller":MAILTO:sylvia.zeller@berlin.de
END:VEVENT
END:VCALENDAR