BEGIN:VCALENDAR
VERSION:2.0
PRODID:-//Rosenwaldhof - ECPv4.8//NONSGML v1.0//EN
CALSCALE:GREGORIAN
METHOD:PUBLISH
X-WR-CALNAME:Rosenwaldhof
X-ORIGINAL-URL:https://www.rosenwaldhof.de
X-WR-CALDESC:Veranstaltungen für Rosenwaldhof
BEGIN:VEVENT
DTSTART;VALUE=DATE:20201023
DTEND;VALUE=DATE:20201026
DTSTAMP:20260420T010238
CREATED:20200714T151804Z
LAST-MODIFIED:20200901T202645Z
UID:3668-1603411200-1603670399@www.rosenwaldhof.de
SUMMARY:Yoga und Naturerfahrung
DESCRIPTION:
URL:https://www.rosenwaldhof.de/event/yoga-und-naturerfahrung-2/
LOCATION:Rosenwaldhof\, Bergstraße 2\, Groß Kreutz (Havel)\, 14550\, Deutschland
GEO:52.4428131;12.7341275
X-APPLE-STRUCTURED-LOCATION;VALUE=URI;X-ADDRESS=Rosenwaldhof Bergstraße 2 Groß Kreutz (Havel) 14550 Deutschland;X-APPLE-RADIUS=500;X-TITLE=Bergstraße 2:geo:12.7341275,52.4428131
CATEGORIES:Yoga
ORGANIZER;CN="Burghard%20Duhm":MAILTO:burghardduhm01@gmail.com
END:VEVENT
END:VCALENDAR