BEGIN:VCALENDAR
VERSION:2.0
PRODID:-//Rosenwaldhof - ECPv4.8//NONSGML v1.0//EN
CALSCALE:GREGORIAN
METHOD:PUBLISH
X-WR-CALNAME:Rosenwaldhof
X-ORIGINAL-URL:https://www.rosenwaldhof.de
X-WR-CALDESC:Veranstaltungen für Rosenwaldhof
BEGIN:VEVENT
DTSTART;VALUE=DATE:20201009
DTEND;VALUE=DATE:20201013
DTSTAMP:20260420T014242
CREATED:20200901T195516Z
LAST-MODIFIED:20200901T203013Z
UID:3712-1602201600-1602547199@www.rosenwaldhof.de
SUMMARY:Yoga und Du - Auszeit für Dich
DESCRIPTION:Yoga\, Pranayama\, Meditation\, ätherische Öle\, Entspannung\, Besinnung \nViele Menschen haben die Verbindung zu ihrem Leben\, zu ihrem Fühlen und Spüren verloren. Die meisten fühlen sich gestresst\, entrückt oder überfordert. Viele Dinge geistern durch den Kopf. Jeden Tag haben wir Sinneseindrücke zu verarbeiten: Erinnerungen\, Pläne\, Emotionen\, Probleme. Darüber hinaus nehmen wir den eigenen Körper kaum oder gar nicht mehr wahr. Vom bewussten Atmen ganz zu schweigen. Der Einklang von Körper\, Geist und Seele ist verloren gegangen. Hier kann Yoga – regelmäßig praktiziert – helfen\, um innerlich ausgeglichen zu werden\, um Ruhe zu finden\, um sich gesund zu erhalten\, um.. \nMeine einfühlsamen Yoga-Stunden sind stilübergreifend und an keine Yoga-Tradition gebunden. Ich begleite meine Teilnehmer auf einem individuellen Weg\, auf dem es immer wieder Neues zu entdecken und zu erfahren gibt. Die persönliche Entwicklung des Einzelnen ist mir sehr wichtig. 
URL:https://www.rosenwaldhof.de/event/yoga-und-du-auszeit-fuer-dich/
LOCATION:Rosenwaldhof\, Bergstraße 2\, Groß Kreutz (Havel)\, 14550\, Deutschland
GEO:52.4428131;12.7341275
X-APPLE-STRUCTURED-LOCATION;VALUE=URI;X-ADDRESS=Rosenwaldhof Bergstraße 2 Groß Kreutz (Havel) 14550 Deutschland;X-APPLE-RADIUS=500;X-TITLE=Bergstraße 2:geo:12.7341275,52.4428131
CATEGORIES:Meditation,Yoga
ORGANIZER;CN="Viola%20Rudloff":MAILTO:viola-rudloff@t-online.de
END:VEVENT
END:VCALENDAR