BEGIN:VCALENDAR
VERSION:2.0
PRODID:-//Rosenwaldhof - ECPv4.8//NONSGML v1.0//EN
CALSCALE:GREGORIAN
METHOD:PUBLISH
X-WR-CALNAME:Rosenwaldhof
X-ORIGINAL-URL:https://www.rosenwaldhof.de
X-WR-CALDESC:Veranstaltungen für Rosenwaldhof
BEGIN:VEVENT
DTSTART;VALUE=DATE:20210903
DTEND;VALUE=DATE:20210906
DTSTAMP:20260419T202558
CREATED:20201125T101941Z
LAST-MODIFIED:20201125T102150Z
UID:3952-1630627200-1630886399@www.rosenwaldhof.de
SUMMARY:Yoga und Coaching
DESCRIPTION:Yogasequenzen wechseln sich mit Coachingeinheiten ab. 
URL:https://www.rosenwaldhof.de/event/yoga-und-coaching/
LOCATION:Rosenwaldhof\, Bergstraße 2\, Groß Kreutz (Havel)\, 14550\, Deutschland
GEO:52.4428131;12.7341275
X-APPLE-STRUCTURED-LOCATION;VALUE=URI;X-ADDRESS=Rosenwaldhof Bergstraße 2 Groß Kreutz (Havel) 14550 Deutschland;X-APPLE-RADIUS=500;X-TITLE=Bergstraße 2:geo:12.7341275,52.4428131
CATEGORIES:Beratung/Therapie,geschlossene Gruppe,Yoga
ATTACH;FMTTYPE=image/png:https://www.rosenwaldhof.de/wp-content/uploads/2020/11/logo_weiss.png
ORGANIZER;CN="Bettina%20Droese":MAILTO:bettina_droese@web.de
END:VEVENT
END:VCALENDAR