BEGIN:VCALENDAR
VERSION:2.0
PRODID:-//Rosenwaldhof - ECPv4.8//NONSGML v1.0//EN
CALSCALE:GREGORIAN
METHOD:PUBLISH
X-WR-CALNAME:Rosenwaldhof
X-ORIGINAL-URL:https://www.rosenwaldhof.de
X-WR-CALDESC:Veranstaltungen für Rosenwaldhof
BEGIN:VEVENT
DTSTART;VALUE=DATE:20210827
DTEND;VALUE=DATE:20210830
DTSTAMP:20260419T155145
CREATED:20210817T151313Z
LAST-MODIFIED:20210817T151313Z
UID:4592-1630022400-1630281599@www.rosenwaldhof.de
SUMMARY:Yoga *Stille Retreat*
DESCRIPTION:Yin Yoga bei der Ankunft\, sanftes Vinyasa Yoga morgens\, Meditation mittags\, YinYoga am Abend 
URL:https://www.rosenwaldhof.de/event/yoga-stille-retreat/
LOCATION:Rosenwaldhof\, Bergstraße 2\, Groß Kreutz (Havel)\, 14550\, Deutschland
GEO:52.4428131;12.7341275
X-APPLE-STRUCTURED-LOCATION;VALUE=URI;X-ADDRESS=Rosenwaldhof Bergstraße 2 Groß Kreutz (Havel) 14550 Deutschland;X-APPLE-RADIUS=500;X-TITLE=Bergstraße 2:geo:12.7341275,52.4428131
ATTACH;FMTTYPE=image/jpeg:https://www.rosenwaldhof.de/wp-content/uploads/2021/08/IMG_0560.jpg
ORGANIZER;CN="Stefanie%20Grabner":MAILTO:info@flowingmind.de
END:VEVENT
END:VCALENDAR