BEGIN:VCALENDAR
VERSION:2.0
PRODID:-//Rosenwaldhof - ECPv4.8//NONSGML v1.0//EN
CALSCALE:GREGORIAN
METHOD:PUBLISH
X-WR-CALNAME:Rosenwaldhof
X-ORIGINAL-URL:https://www.rosenwaldhof.de
X-WR-CALDESC:Veranstaltungen für Rosenwaldhof
BEGIN:VEVENT
DTSTART;VALUE=DATE:20201211
DTEND;VALUE=DATE:20201215
DTSTAMP:20260419T215426
CREATED:20200901T201135Z
LAST-MODIFIED:20201130T120813Z
UID:3716-1607644800-1607990399@www.rosenwaldhof.de
SUMMARY:Yoga-Retreat Abgesagt
DESCRIPTION:„Adapting yoga to suit the needs of every unique individual is where the true greatness of yoga lies“ – TKV Desikachar \nWe move and breathe with full awareness. We are present in our body. We face challenges with clarity and joy. Yoga is such a useful tool for living in the modern world where stress and chronic pain bother so many of us. 
URL:https://www.rosenwaldhof.de/event/yoga-retreat/
LOCATION:Rosenwaldhof\, Bergstraße 2\, Groß Kreutz (Havel)\, 14550\, Deutschland
GEO:52.4428131;12.7341275
X-APPLE-STRUCTURED-LOCATION;VALUE=URI;X-ADDRESS=Rosenwaldhof Bergstraße 2 Groß Kreutz (Havel) 14550 Deutschland;X-APPLE-RADIUS=500;X-TITLE=Bergstraße 2:geo:12.7341275,52.4428131
CATEGORIES:Meditation,Yoga
ATTACH;FMTTYPE=image/jpeg:https://www.rosenwaldhof.de/wp-content/uploads/2017/01/Elefant-Tara-im-Schnee.jpg
ORGANIZER;CN="Oren%20Zaslavsky":MAILTO:yogainperson@gmail.com
END:VEVENT
END:VCALENDAR