BEGIN:VCALENDAR
VERSION:2.0
PRODID:-//Rosenwaldhof - ECPv4.8//NONSGML v1.0//EN
CALSCALE:GREGORIAN
METHOD:PUBLISH
X-WR-CALNAME:Rosenwaldhof
X-ORIGINAL-URL:https://www.rosenwaldhof.de
X-WR-CALDESC:Veranstaltungen für Rosenwaldhof
BEGIN:VEVENT
DTSTART;VALUE=DATE:20220319
DTEND;VALUE=DATE:20220320
DTSTAMP:20260419T155502
CREATED:20220308T182915Z
LAST-MODIFIED:20220308T190042Z
UID:4895-1647648000-1647734399@www.rosenwaldhof.de
SUMMARY:Yoga Workshop - Spring Energy
DESCRIPTION:One Day Yoga\nThe right kind of busy! \nRetreat zum Einklang des Frühlings.\nEin ganzer Tag nur für dich. \nZeit etwas für deinen Körper\, deinen Geist und deine Seele zu tun. Hintergrundwissen zum Thema YOGA und Stessmanagement. Praxis auf der Matte mit ganz viel Zeit. Biologisch/Vegetarischer Küche. Ausspannen in ruhiger Umgebung. \n\nFrühstück\nWorkshop Theorie 1 – Einführung Yoga\nYoga Praxis (Hatha)\nMittagessen\nAuszeit in den Götzen Bergen\nWorkshop 2 – Was ist Stress?\nYoga Praxis (Hatha Flow\, Vinyasa)\nFeedback & Abendessen\n\n 
URL:https://www.rosenwaldhof.de/event/yoga-meditation-wochenende-retreat-copy-copy-copy/
LOCATION:Rosenwaldhof\, Bergstraße 2\, Groß Kreutz (Havel)\, 14550\, Deutschland
GEO:52.4428131;12.7341275
X-APPLE-STRUCTURED-LOCATION;VALUE=URI;X-ADDRESS=Rosenwaldhof Bergstraße 2 Groß Kreutz (Havel) 14550 Deutschland;X-APPLE-RADIUS=500;X-TITLE=Bergstraße 2:geo:12.7341275,52.4428131
CATEGORIES:Beratung/Therapie,Gesunde Ernährung,Meditation,Yoga
ATTACH;FMTTYPE=image/png:https://www.rosenwaldhof.de/wp-content/uploads/2022/03/Bildschirmfoto-2022-03-08-um-7.43.40-PM.png
ORGANIZER;CN="YouVida":MAILTO:kontakt@youvida.de
END:VEVENT
END:VCALENDAR