BEGIN:VCALENDAR
VERSION:2.0
PRODID:-//Rosenwaldhof - ECPv4.8//NONSGML v1.0//EN
CALSCALE:GREGORIAN
METHOD:PUBLISH
X-WR-CALNAME:Rosenwaldhof
X-ORIGINAL-URL:https://www.rosenwaldhof.de
X-WR-CALDESC:Veranstaltungen für Rosenwaldhof
BEGIN:VEVENT
DTSTART;VALUE=DATE:20211015
DTEND;VALUE=DATE:20211019
DTSTAMP:20260423T103607
CREATED:20210707T125618Z
LAST-MODIFIED:20210712T112451Z
UID:4459-1634256000-1634601599@www.rosenwaldhof.de
SUMMARY:Yoga as a path of discovery
DESCRIPTION:Three days of going deeper into different types of Yoga practice and workshops – asana (Yoga postures)\, pranayama (Yoga breathing)\, meditation\, and discussions about fundamental topics\, all done with an inquisitive mind that is open to discoveries about the essence of being 
URL:https://www.rosenwaldhof.de/event/yoga-as-a-path-of-discovery/
LOCATION:Rosenwaldhof\, Bergstraße 2\, Groß Kreutz (Havel)\, 14550\, Deutschland
GEO:52.4428131;12.7341275
X-APPLE-STRUCTURED-LOCATION;VALUE=URI;X-ADDRESS=Rosenwaldhof Bergstraße 2 Groß Kreutz (Havel) 14550 Deutschland;X-APPLE-RADIUS=500;X-TITLE=Bergstraße 2:geo:12.7341275,52.4428131
CATEGORIES:Meditation,Yoga
ATTACH;FMTTYPE=image/jpeg:https://www.rosenwaldhof.de/wp-content/uploads/2021/07/for-FB.jpg
ORGANIZER;CN="Oren%20Zaslavsky":MAILTO:yogainperson@gmail.com
END:VEVENT
END:VCALENDAR