BEGIN:VCALENDAR
VERSION:2.0
PRODID:-//Rosenwaldhof - ECPv4.8//NONSGML v1.0//EN
CALSCALE:GREGORIAN
METHOD:PUBLISH
X-WR-CALNAME:Rosenwaldhof
X-ORIGINAL-URL:https://www.rosenwaldhof.de
X-WR-CALDESC:Veranstaltungen für Rosenwaldhof
BEGIN:VEVENT
DTSTART;VALUE=DATE:20211222
DTEND;VALUE=DATE:20211228
DTSTAMP:20260423T084906
CREATED:20210720T143245Z
LAST-MODIFIED:20210720T143746Z
UID:4513-1640131200-1640649599@www.rosenwaldhof.de
SUMMARY:Weihnachtsretreat: Feldenkrais und Erholung in purer Natur
DESCRIPTION:Weihnachten in ruhiger Umgebung und Bio-Verpflegung mit Lena Schumacher\n \nWeitere Info zum Seminar finden Sie auf der Webseite von Womenfairtravel.\nSeminaranmeldung sowie Zimmerbuchung machen Sie bitte direkt beim Veranstalter.    
URL:https://www.rosenwaldhof.de/event/womenfairtravelfeldenkrais19-copy/
LOCATION:Rosenwaldhof\, Bergstraße 2\, Groß Kreutz (Havel)\, 14550\, Deutschland
GEO:52.4428131;12.7341275
X-APPLE-STRUCTURED-LOCATION;VALUE=URI;X-ADDRESS=Rosenwaldhof Bergstraße 2 Groß Kreutz (Havel) 14550 Deutschland;X-APPLE-RADIUS=500;X-TITLE=Bergstraße 2:geo:12.7341275,52.4428131
CATEGORIES:Persönlichkeit & Kreativität
ATTACH;FMTTYPE=image/jpeg:https://www.rosenwaldhof.de/wp-content/uploads/2017/03/9053DFE1A151451D94108ACA4C939DF5.jpg
ORGANIZER;CN="WomenFairTravel":MAILTO:info@womenfairtravel.com
END:VEVENT
END:VCALENDAR