BEGIN:VCALENDAR
VERSION:2.0
PRODID:-//Rosenwaldhof - ECPv4.8//NONSGML v1.0//EN
CALSCALE:GREGORIAN
METHOD:PUBLISH
X-WR-CALNAME:Rosenwaldhof
X-ORIGINAL-URL:https://www.rosenwaldhof.de
X-WR-CALDESC:Veranstaltungen für Rosenwaldhof
BEGIN:VEVENT
DTSTART;VALUE=DATE:20210226
DTEND;VALUE=DATE:20210301
DTSTAMP:20260419T155026
CREATED:20210225T113353Z
LAST-MODIFIED:20210225T113353Z
UID:4252-1614297600-1614556799@www.rosenwaldhof.de
SUMMARY:Winter-Schweige-Retreat fällt leider wegen Corona aus  Kopieren
DESCRIPTION:Meditations-/Achtsamkeitsretreat in Stille 
URL:https://www.rosenwaldhof.de/event/winter-schweige-retreat-copy/
LOCATION:Rosenwaldhof\, Bergstraße 2\, Groß Kreutz (Havel)\, 14550\, Deutschland
GEO:52.4428131;12.7341275
X-APPLE-STRUCTURED-LOCATION;VALUE=URI;X-ADDRESS=Rosenwaldhof Bergstraße 2 Groß Kreutz (Havel) 14550 Deutschland;X-APPLE-RADIUS=500;X-TITLE=Bergstraße 2:geo:12.7341275,52.4428131
CATEGORIES:MBSR,Meditation,Schweigeretreat
ATTACH;FMTTYPE=image/jpeg:https://www.rosenwaldhof.de/wp-content/uploads/2021/01/rsw-365h-365cg-truem.jpeg
ORGANIZER;CN="Hanna%20Vo%C3%9F":MAILTO:mai@hannavoss.de
END:VEVENT
END:VCALENDAR