BEGIN:VCALENDAR
VERSION:2.0
PRODID:-//Rosenwaldhof - ECPv4.8//NONSGML v1.0//EN
CALSCALE:GREGORIAN
METHOD:PUBLISH
X-WR-CALNAME:Rosenwaldhof
X-ORIGINAL-URL:https://www.rosenwaldhof.de
X-WR-CALDESC:Veranstaltungen für Rosenwaldhof
BEGIN:VEVENT
DTSTART;VALUE=DATE:20200714
DTEND;VALUE=DATE:20200721
DTSTAMP:20260420T012534
CREATED:20200630T092048Z
LAST-MODIFIED:20200701T175044Z
UID:3619-1594684800-1595289599@www.rosenwaldhof.de
SUMMARY:1. Retreat Weiterbildungsreihe WB 6-D
DESCRIPTION:Geschlossene Gruppe (bei Interesse an Teilnahme bitte maya@rosenwaldhof.de kontaktieren) \nStreaming von Dr. Shrikrishna aus Mumbai \nSprache: Englisch Übersetzung ins Deutsche \nWeitere Informationen folgen 
URL:https://www.rosenwaldhof.de/event/weiterbildungsreihe-wb-6-d/
LOCATION:Rosenwaldhof\, Bergstraße 2\, Groß Kreutz (Havel)\, 14550\, Deutschland
GEO:52.4428131;12.7341275
X-APPLE-STRUCTURED-LOCATION;VALUE=URI;X-ADDRESS=Rosenwaldhof Bergstraße 2 Groß Kreutz (Havel) 14550 Deutschland;X-APPLE-RADIUS=500;X-TITLE=Bergstraße 2:geo:12.7341275,52.4428131
CATEGORIES:Meditation,Shrikrishna,Yoga
ATTACH;FMTTYPE=image/jpeg:https://www.rosenwaldhof.de/wp-content/uploads/2016/11/shrikrishna_270_270.jpg
ORGANIZER;CN="Dr.%20Shrikrishna%20B.%20Tengshe%20aus%20Mumbai":MAILTO:maya@rosenwaldhof.de
END:VEVENT
END:VCALENDAR