BEGIN:VCALENDAR
VERSION:2.0
PRODID:-//Rosenwaldhof - ECPv4.8//NONSGML v1.0//EN
CALSCALE:GREGORIAN
METHOD:PUBLISH
X-WR-CALNAME:Rosenwaldhof
X-ORIGINAL-URL:https://www.rosenwaldhof.de
X-WR-CALDESC:Veranstaltungen für Rosenwaldhof
BEGIN:VEVENT
DTSTART;VALUE=DATE:20220318
DTEND;VALUE=DATE:20220321
DTSTAMP:20260419T155320
CREATED:20210510T203118Z
LAST-MODIFIED:20220222T114907Z
UID:4334-1647561600-1647820799@www.rosenwaldhof.de
SUMMARY:Weisheit und Mitgefühl Jahrestraining 1 fällt Corona-bedingt leider aus
DESCRIPTION:Basis ist die Achtsamkeitspraxis in der Tradition Thich Nhat Hanhs. Vertiefungsgruppe – Sutren erforschen\, praktizieren\, Transfer in den Alltag\, Betonung der Sangha. \n\n\n\n\n\n\nTeil 3: Die Kraft des Mitgefühls \n– Das universelle Tor (Samanta Mukha) aus dem Lotus-Sutra \n\n\n\n\n\n
URL:https://www.rosenwaldhof.de/event/weisheit-und-mitgefuehl-jahrestraining-2-4-copy/
LOCATION:Rosenwaldhof\, Bergstraße 2\, Groß Kreutz (Havel)\, 14550\, Deutschland
GEO:52.4428131;12.7341275
X-APPLE-STRUCTURED-LOCATION;VALUE=URI;X-ADDRESS=Rosenwaldhof Bergstraße 2 Groß Kreutz (Havel) 14550 Deutschland;X-APPLE-RADIUS=500;X-TITLE=Bergstraße 2:geo:12.7341275,52.4428131
CATEGORIES:Meditation
ATTACH;FMTTYPE=image/jpeg:https://www.rosenwaldhof.de/wp-content/uploads/2020/11/India-2014-228.jpg
ORGANIZER;CN="Bettina%20Romhardt":MAILTO:bettinaromhardt@aol.com
END:VEVENT
END:VCALENDAR