BEGIN:VCALENDAR
VERSION:2.0
PRODID:-//Rosenwaldhof - ECPv4.8//NONSGML v1.0//EN
CALSCALE:GREGORIAN
METHOD:PUBLISH
X-WR-CALNAME:Rosenwaldhof
X-ORIGINAL-URL:https://www.rosenwaldhof.de
X-WR-CALDESC:Veranstaltungen für Rosenwaldhof
BEGIN:VEVENT
DTSTART;VALUE=DATE:20210910
DTEND;VALUE=DATE:20210913
DTSTAMP:20260419T191230
CREATED:20201109T185706Z
LAST-MODIFIED:20210510T202911Z
UID:3796-1631232000-1631491199@www.rosenwaldhof.de
SUMMARY:Weisheit und Mitgefühl Jahrestraining 1
DESCRIPTION:Basis ist die Achtsamkeitspraxis in der Tradition Thich Nhat Hanhs. Vertiefungsgruppe – Sutren erforschen\, praktizieren\, Transfer in den Alltag\, Betonung der Sangha. \n\n\n\nTeil 1: A joyful path \n– Der edle achtfache Pfad aus dem Sutra über das Ingangsetzen des Dharma-Rades \n\n\n
URL:https://www.rosenwaldhof.de/event/weisheit-und-mitgefuehl-jahrestraining-2-3/
LOCATION:Rosenwaldhof\, Bergstraße 2\, Groß Kreutz (Havel)\, 14550\, Deutschland
GEO:52.4428131;12.7341275
X-APPLE-STRUCTURED-LOCATION;VALUE=URI;X-ADDRESS=Rosenwaldhof Bergstraße 2 Groß Kreutz (Havel) 14550 Deutschland;X-APPLE-RADIUS=500;X-TITLE=Bergstraße 2:geo:12.7341275,52.4428131
CATEGORIES:Meditation
ATTACH;FMTTYPE=image/jpeg:https://www.rosenwaldhof.de/wp-content/uploads/2016/12/008_IMG_7880_medium.jpg
ORGANIZER;CN="Bettina%20Romhardt":MAILTO:bettinaromhardt@aol.com
END:VEVENT
END:VCALENDAR