BEGIN:VCALENDAR
VERSION:2.0
PRODID:-//Rosenwaldhof - ECPv4.8//NONSGML v1.0//EN
CALSCALE:GREGORIAN
METHOD:PUBLISH
X-WR-CALNAME:Rosenwaldhof
X-ORIGINAL-URL:https://www.rosenwaldhof.de
X-WR-CALDESC:Veranstaltungen für Rosenwaldhof
BEGIN:VEVENT
DTSTART;VALUE=DATE:20171220
DTEND;VALUE=DATE:20171226
DTSTAMP:20260420T025946
CREATED:20161214T114508Z
LAST-MODIFIED:20171116T121837Z
UID:1247-1513728000-1514246399@www.rosenwaldhof.de
SUMMARY:Meditatives Weihnachtsretreat
DESCRIPTION:In diesem Jahr bietet der Rosenwaldhof erstmalig ein weihnachtliches Achtsamkeitsretreat an. Gemeinsam werden wir die Wintersonnenwende und die Raunächte als die Zeit der langen Dämmerungen erleben. In dieser kostbaren Zeit des Rückzugs werden wir tief in unser Sein eintauchen\, Altes loslassen\, die Geburt des Neuen fördern und Kraft sammeln. Am 24. Dezember feiern wir gemeinsam auf besinnliche Weise den Heiligabend.\nDas Retreat umfasst stille Sitz- und Gehmeditation\, geführte Meditationen\, meditatives Tanzen und sanfte Yogaübungen. Es findet im anteiligen Schweigen statt. Ansonsten wollen wir uns auch während des Sprechens und Zuhörens in Achtsamkeit üben.\nDie besondere Atmosphäre des Rosenwaldhofs\, seine liebevoll zubereiteten vegetarischen Bio-Speisen und die ihn umgebende kraftvolle Natur werden uns dabei unterstützen. \nSeminarzeiten:\n20. Dezember ab 18 Uhr (mit dem Abendessen)\nbis 25. Dezember\, 10 Uhr (nach dem Frühstück) \nKosten:\nSeminargebühr 260 / 290 / 320 Euro nach Selbsteinschätzung\,\nzzgl. Ü+V je nach Zimmerkategorie. \nAuch ist mir kein Weihnachten\,\nwo es auch war\, vergangen\,\nohne dass es hinter\nmeinen geschlossenen Augen\nfür eine Sekunde\nunbeschreiblich hell wurde. \nRainer Maria Rilke \n  \n\nSeminarbegleitung: \nTorsten Simon (Jahrgang ’75) ist Search Inside Yourself Trainer\, Achtsamkeitspraxistrainer (Yoga Vidya) und co-active Coach. Er vermittelt die Achtsamkeitspraxis in Vorträgen\, Seminaren und ganz begreifbar in Alltagssituationen (achtsames Essen\, Gehen und dabei den eigenen Geist beobachten). Als Teilnehmer hat Torsten gemeinsam mit vielen Menschen in diversen mehrtägigen Seminaren und Retreats neue Erkenntnisse\, Heilung und Transformation erfahren. Viel Kraft zieht Torsten aus der täglichen eigenen Praxis sowie der Vertiefung im persönlichen Alltag. All diese eigenen Erfahrungen fließen in seine Tätigkeit als Trainer ein\, in der er in den letzten Jahren das Glück hatte viele Teilnehmer bei ihrer persönlichen Entwicklung begleiten zu dürfen. \n  \n  \nDr. Martina Bley\, Yogalehrerin (BDY/EYU & Yoga Darshana e.V.)\, Tierärztin\, Dr. rer. nat. (Verhaltenswissenschaften)\, Gestalttherapeutin\, Heilpraktikerin (Psychotherapie)\, Dozentin in Yogalehrerausbildungen in Deutschland und der Schweiz\, seit mehr als 20 Jahren Pranayama- und Meditationsseminare mit Dr. Shrikrishna Bhushan Tengshe aus Mumbai\, Kontemplationsschülerin von Pater Williges Jäger\, Erfahrungen mit Vipassana-Meditation\, meditativem Tanz\, Qi Gong\, Tai Chi\, taoistischen Methoden\, Sufitechniken\, Schamanismus und Traumarbeit\, Gründerin und Leiterin des Rosenwaldhof. \n  \n  \n  \nCarola Döbler\, Dipl.-Naturwissenschaftlerin und Yogalehrerin\, dem Yogaweg R. Sriram verbunden. Seit 2000 hauptberuflich als Yogalehrerin in Gruppen- und Einzelunterricht sowie in Aus- und Weiterbildung tätig. Seit 2007 Pranayama- und Meditationspraxis bei Dr. Shrikrishna B. Tengshe. Langjährige Zen-Schülerin von Pater Willigis Jäger. Tanzleitung für meditative Kreistänze. \n  \n  \n  \n  \n  \nIhr Zimmer im Rosenwaldhof reservieren Sie bitte mit folgendem Link. Sie sind damit automatisch für das Seminar angemeldet. \n[vc_row][vc_column][vc_tta_accordion c_position=“right“ active_section=“1000″ collapsible_all=“true“][vc_tta_section title=“Zimmerreservierung bitte hier klicken.“ tab_id=“1484146577277-3de1b8b1-a9bd“][vc_column_text]\n\n\n\n\n\n\n\n\n\n Ihr Vorname (Pflichtfeld)\n      \n Ihr Nachname (Pflichtfeld)\n      \n Strasse (Pflichtfeld)\n      \n Postleitzahl (Pflichtfeld)\n      \n Ort (Pflichtfeld)\n      \n Telefon (Pflichtfeld)\n      \n Ihre E-Mail-Adresse (Pflichtfeld)\n      \nMein Zimmerwunsch 1 (bitte wählen)Einzelzimmer mit BadEinzelzimmer mit EtagenbadDoppelzimmer mit Bad \nMein Zimmerwunsch 2 (bitte wählen)Einzelzimmer mit BadEinzelzimmer mit EtagenbadDoppelzimmer mit Bad \nIch buche die Unterkunft und Verpflegung entsprechend den Vorgaben des SeminarveranstaltersIch habe besondere Hinweise zu meiner An-/Abreise\, Verpflegung oder Weiterem und teile diese im folgenden mit: \n Ihre Nachricht\n      \nBitte lasse dieses Feld leer. \nIch bestätige\, dass ich die Zimmerreservierung auf Basis der gültigen Preisliste und Stornierungsbedingungen durchführe. (https://www.rosenwaldhof.de/preise-und-stornierungsbedingungen/) (Pflichtfeld) \nIch bestätige\, dass ich die Datenschutzerklärung des Rosenwaldhof gelesen habe und sie akzeptiere. (https://www.rosenwaldhof.de/datenschutz-ds-gvo/) (Pflichtfeld) \nBitte beantworten Sie folgende Spamschutz-Frage: 10 plus 10 =  \n \n[/vc_column_text][/vc_tta_section][/vc_tta_accordion][/vc_column][/vc_row] 
URL:https://www.rosenwaldhof.de/event/weihnachten-1217/
LOCATION:Rosenwaldhof\, Bergstraße 2\, Groß Kreutz (Havel)\, 14550\, Deutschland
GEO:52.4428131;12.7341275
X-APPLE-STRUCTURED-LOCATION;VALUE=URI;X-ADDRESS=Rosenwaldhof Bergstraße 2 Groß Kreutz (Havel) 14550 Deutschland;X-APPLE-RADIUS=500;X-TITLE=Bergstraße 2:geo:12.7341275,52.4428131
CATEGORIES:Meditation,Persönlichkeit & Kreativität,Rosenwaldhof-Seminar
ATTACH;FMTTYPE=image/jpeg:https://www.rosenwaldhof.de/wp-content/uploads/2017/01/Herbst-Winter-Stimmung-e1504002556580.jpg
ORGANIZER;CN="Dr.%20Martina%20Bley%2C%20Torsten%20Simon%2C%20Carola%20D%C3%B6bler":MAILTO:gast@rosenwaldhof.de
END:VEVENT
END:VCALENDAR