BEGIN:VCALENDAR
VERSION:2.0
PRODID:-//Rosenwaldhof - ECPv4.8//NONSGML v1.0//EN
CALSCALE:GREGORIAN
METHOD:PUBLISH
X-WR-CALNAME:Rosenwaldhof
X-ORIGINAL-URL:https://www.rosenwaldhof.de
X-WR-CALDESC:Veranstaltungen für Rosenwaldhof
BEGIN:VEVENT
DTSTART;VALUE=DATE:20210425
DTEND;VALUE=DATE:20210503
DTSTAMP:20260423T084923
CREATED:20201109T191224Z
LAST-MODIFIED:20210507T100106Z
UID:3804-1619308800-1619999999@www.rosenwaldhof.de
SUMMARY:Vertrauen und Vertiefen - Meditation\, Schweigekurs muß leider ausfallen wegen Corona
DESCRIPTION:Es gibt etwas zu entdecken – jede und jeder kann es entdecken!  \nDas ist der Wahlspruch des buddhistischen Wegs. Es ist ein Erfahrungsweg\, ein Weg der Erforschung. Und was erforschen wir? Den eigenen Geist\, das eigene Herz. \nAus buddhistischer Sicht sind wir alle fähig\, unser innerstes Wesen zu erkennen und dem\, was wir da entdecken\, zu vertrauen. Aber wie kommen wir dahin? Die buddhistische Tradition bietet die Praxis der Meditation an\, um sich auf den Weg zu machen. Durch Meditation lernen wir\, uns zu stabilisieren\, zu entspannen und gleichzeitig wach zu sein. Das ist die Voraussetzung dafür\, klarer erkennen zu können\, was unser Geist\, unser Herz eigentlich ist. 
URL:https://www.rosenwaldhof.de/event/vertrauen-und-vertiefen-meditation-schweigekurs/
LOCATION:Rosenwaldhof\, Bergstraße 2\, Groß Kreutz (Havel)\, 14550\, Deutschland
GEO:52.4428131;12.7341275
X-APPLE-STRUCTURED-LOCATION;VALUE=URI;X-ADDRESS=Rosenwaldhof Bergstraße 2 Groß Kreutz (Havel) 14550 Deutschland;X-APPLE-RADIUS=500;X-TITLE=Bergstraße 2:geo:12.7341275,52.4428131
CATEGORIES:Meditation,Schweigeretreat
ATTACH;FMTTYPE=image/jpeg:https://www.rosenwaldhof.de/wp-content/uploads/2020/11/IMG_9317.jpg
ORGANIZER;CN="Agnes%20Pollner":MAILTO:herz-der-dinge@posteo.de
END:VEVENT
END:VCALENDAR