BEGIN:VCALENDAR
VERSION:2.0
PRODID:-//Rosenwaldhof - ECPv4.8//NONSGML v1.0//EN
CALSCALE:GREGORIAN
METHOD:PUBLISH
X-WR-CALNAME:Rosenwaldhof
X-ORIGINAL-URL:https://www.rosenwaldhof.de
X-WR-CALDESC:Veranstaltungen für Rosenwaldhof
BEGIN:VEVENT
DTSTART;VALUE=DATE:20220424
DTEND;VALUE=DATE:20220428
DTSTAMP:20260419T123844
CREATED:20210706T163606Z
LAST-MODIFIED:20210914T161318Z
UID:4452-1650758400-1651103999@www.rosenwaldhof.de
SUMMARY:Informelle persönliche Retreat Tage
DESCRIPTION:
URL:https://www.rosenwaldhof.de/event/vertrauen-und-vertiefen-meditation-schweigekurs-copy-2/
LOCATION:Rosenwaldhof\, Bergstraße 2\, Groß Kreutz (Havel)\, 14550\, Deutschland
GEO:52.4428131;12.7341275
X-APPLE-STRUCTURED-LOCATION;VALUE=URI;X-ADDRESS=Rosenwaldhof Bergstraße 2 Groß Kreutz (Havel) 14550 Deutschland;X-APPLE-RADIUS=500;X-TITLE=Bergstraße 2:geo:12.7341275,52.4428131
CATEGORIES:geschlossene Gruppe,Meditation
ATTACH;FMTTYPE=image/jpeg:https://www.rosenwaldhof.de/wp-content/uploads/2020/11/IMG_8172.jpg
ORGANIZER;CN="Agnes%20Pollner":MAILTO:herz-der-dinge@posteo.de
END:VEVENT
END:VCALENDAR