BEGIN:VCALENDAR
VERSION:2.0
PRODID:-//Rosenwaldhof - ECPv4.8//NONSGML v1.0//EN
CALSCALE:GREGORIAN
METHOD:PUBLISH
X-WR-CALNAME:Rosenwaldhof
X-ORIGINAL-URL:https://www.rosenwaldhof.de
X-WR-CALDESC:Veranstaltungen für Rosenwaldhof
BEGIN:VEVENT
DTSTART;VALUE=DATE:20200816
DTEND;VALUE=DATE:20200822
DTSTAMP:20260420T031958
CREATED:20191207T115718Z
LAST-MODIFIED:20191209T152937Z
UID:3430-1597536000-1598054399@www.rosenwaldhof.de
SUMMARY:Radeln und Jodeln
DESCRIPTION:Westlich von Berlin erstreckt sich zwischen Potsdam\, Brandenburg\, Tangermünde und Havelberg eine stille\, noch wenig entdeckte  Fluss –und Seenlandschaft: Das Havelland. Theodor Fontane widmete dieser geschichtsträchtigen\, unaufgeregten Gegend einen ganzen Band seines Werks Wanderungen durch die Mark Brandenburg. Die flussgesäumte Weitläufigkeit des Havellands ist prädestiniert\, um es per Rad zu erkunden: Einsteins Sommerhaus in Caputh\, die ehemalige königliche Schmiede in Paretz\, die Glindower Alpen und Schloss Petzow am Ufer des Schwielowsee\, das mittelalterliche Kloster Lehnin\, ganz zu schweigen von den vielen idyllischen Badestellen und den einsamen Orten\, um zu jodeln. \n \n \nUnweit am schönsten Flussradweg Deutschlands\, dem Havel-Radweg\, liegt abgelegen im Grünen unsere Unterkunft\, das Seminarhaus Rosenwaldhof. Schwerpunkte der Woche sind Körper –und Stimmarbeit\, Jodeln\, 3 Radtouren\, Erholung\, Genuß. \n \n  \n  \nKosten:  5 Nächte inkl. Vollverpflegung\nEZ mit Bad:    410\,00€\nEZ ohne Bad: 360\,00€\nDZ mit Bad:    360\,00€ \nZuzüglich: Stimm -und Jodelworkshop\, Radtouren:\nFrühbucherpreis: 346\,00€ (zuzüglich. 19% Mwst.) bei Anmeldung und Bezahlung bis zum 31.03.2020\nNormalpreis: 386\,00€ (zuzüglich. 19% Mwst.) bei Anmeldung und Bezahlung nach dem 31.03.2020:\nInklusivleistungen: Gesamtorganisation\, Stimm-und Jodelunterricht\, Radtouren\, Übungs-mp3’s\, Noten. \nDas Angebot ist nur in Kombination Unterbringung und  Jodelworkshop buchbar.  Der Preis der Anreise ist nicht inbegriffen. \nAnmeldeschluß: 01.08.2020 – Anmeldeschluß für Frühbucherpreis: 31.03.2020\n \nMinimale Teilnehmerzahl: 10\nMaximale Teilnehmerzahl: 16 \n\nUrsula Scribano \n \nDipl. Schauspielerin\, Sängerin\, Jodlerin\nseit 2012 Lehrerin für Stimmpräsenz\,\nSingen und Jodeln\nhttps://singkraft.de/ \n  \n  \n  \n  \n  \nWeitere Info hier klicken… \n\n  \nAnmeldung und Zimmerreservierung bitte direkt bei Ursula Scribano. 
URL:https://www.rosenwaldhof.de/event/ursulascribano_radelnundjodeln08_20/
LOCATION:Rosenwaldhof\, Bergstraße 2\, Groß Kreutz (Havel)\, 14550\, Deutschland
GEO:52.4428131;12.7341275
X-APPLE-STRUCTURED-LOCATION;VALUE=URI;X-ADDRESS=Rosenwaldhof Bergstraße 2 Groß Kreutz (Havel) 14550 Deutschland;X-APPLE-RADIUS=500;X-TITLE=Bergstraße 2:geo:12.7341275,52.4428131
CATEGORIES:Persönlichkeit & Kreativität
ATTACH;FMTTYPE=image/jpeg:https://www.rosenwaldhof.de/wp-content/uploads/2019/12/Ursula-singend.jpeg
ORGANIZER;CN="Ursula%20Scribano":MAILTO:info@singkraft.de
END:VEVENT
END:VCALENDAR