BEGIN:VCALENDAR
VERSION:2.0
PRODID:-//Rosenwaldhof - ECPv4.8//NONSGML v1.0//EN
CALSCALE:GREGORIAN
METHOD:PUBLISH
X-WR-CALNAME:Rosenwaldhof
X-ORIGINAL-URL:https://www.rosenwaldhof.de
X-WR-CALDESC:Veranstaltungen für Rosenwaldhof
BEGIN:VEVENT
DTSTART;VALUE=DATE:20191118
DTEND;VALUE=DATE:20191123
DTSTAMP:20260423T084600
CREATED:20190113T175122Z
LAST-MODIFIED:20190113T181404Z
UID:2987-1574035200-1574467199@www.rosenwaldhof.de
SUMMARY:Freiheit und Kraft der Stimme
DESCRIPTION:Körper-Stimmtraining nach Kristin Linklater\nund der archaische Ausdruck von Rufen\, Juchzen und Jodeln \n  \nDie stimmliche Urkraft wiederentdecken\nIm Juchzen und Jodeln mit Vorbereitung durch das Stimmtraining nach\nKristin Linklater Gefühle unzensiert und kraftvoll freisetzen \n \n \nDas Seminar richtet sich an alle\, die Lust haben\, die Stimmarbeit nach Kristin\nLinklater kennen zu lernen oder zu vertiefen und mit dem Jodeln zu verbinden.\nAnfänger wie Fortgeschrittene sind gleichermaßen herzlich willkommen! \n  \nBeschreibung:\nDurch strukturierte\, körperorientierte Übungsabfolgen in Verbindung mit klaren inneren Bildern lösen wir hinderliche Verspannungen und erweitern die Elastizität der Atmungs- und Stimmkoordination. Durch Erspüren und Hinwendung zu den Zusammenhängen von Körper -\, Atem -und Stimmgeschehen mit emotionalen Zuständen\, die uns im wahrsten Sinn des Wortes bewegen\, erarbeiten wir eine Offenheit für Eindrücke –  unsere Inspiration  – als Grundlage für unseren persönlichen Ausdruck. So findet unsere Stimme in der Anbindung an die Lebendigkeit des Atems\, dem Zugang zu den Resonanzräumen und unserem persönlichen Stimmklang im archaischen Jodeln einen kraftvollen freien Ausdruck.\nDie nonverbale „Silbensprache“ des Rufens\, Juchzens und Jodelns\, bietet nach der Vorbereitung durch das intensive Körper -und Stimmtraining\, die Möglichkeit\, unsere Gefühle unzensiert aus unserem Körper herauszulösen und den oft reglementierten Zugang zur stimmlichen Urkraft in uns wieder zu entdecken. \n  \nWANN:\nMontag\, 18.11.2019: Anreise bis 9:30 Uhr\, Kursbeginn 10 Uhr\nFreitag\, 22.11.2019: Abreise nach dem Mittagessen \n  \nWorkshopzeiten:\ntäglich von 9:30 – 18 :30 Uhr\, 2-stündige Mittagspause \n  \nWorkshopgebühr:\n375\,00€ Frühbucherpreis bei Anmeldung bis 31.03.2019\n400\,00€ Normalpreis \n  \nPreis für Unterkunft+ Verpflegung:\nim DZ mit Bad: 312\,00€\nim EZ mit Bad: 352\,00€\nim EZ mit Bad auf Flur 312\,00€ \n  \nAnmeldeschluss für Frühbucherpreis: 31.03.2019\nAnmeldeschluss für Normalpreis: 31.10.2019\nmaximale Teilnehmerzahl: 14 \nAnmeldung unter: https://singkraft.de/   oder info@singkraft.de \nWorkshopleiterinnen: \nLuitgard Janßen\nAtem-\, Sprech- und Stimmlehrerin\n(staatl. gepr.)\, Diplompädagogin\nseit 2003 autorisierte Linklater-\nTrainerin\nwww.biss-berlin.de \nUrsula Scribano\nDipl. Schauspielerin\, Sängerin\, Jodlerin\nseit 2012 Lehrerin für Stimmpräsenz\,\nSingen und Jodeln\nwww.singkraft.de \n  \n\n  \nBitte melden Sie sich für das Seminar direkt beim Veranstalter an. Ihr Zimmer im Rosenwaldhof reservieren Sie bitte mit folgendem Link. \n[vc_row][vc_column][vc_tta_accordion c_position=“right“ active_section=“1000″ collapsible_all=“true“][vc_tta_section title=“Zimmerreservierung bitte hier klicken.“ tab_id=“1484146577277-3de1b8b1-a9bd“][vc_column_text]\n\n\n\n\n\n\n\n\n\n Ihr Vorname (Pflichtfeld)\n      \n Ihr Nachname (Pflichtfeld)\n      \n Strasse (Pflichtfeld)\n      \n Postleitzahl (Pflichtfeld)\n      \n Ort (Pflichtfeld)\n      \n Telefon (Pflichtfeld)\n      \n Ihre E-Mail-Adresse (Pflichtfeld)\n      \nMein Zimmerwunsch 1 (bitte wählen)Einzelzimmer mit BadEinzelzimmer mit EtagenbadDoppelzimmer mit Bad \nMein Zimmerwunsch 2 (bitte wählen)Einzelzimmer mit BadEinzelzimmer mit EtagenbadDoppelzimmer mit Bad \nIch buche die Unterkunft und Verpflegung entsprechend den Vorgaben des SeminarveranstaltersIch habe besondere Hinweise zu meiner An-/Abreise\, Verpflegung oder Weiterem und teile diese im folgenden mit: \n Ihre Nachricht\n      \nBitte lasse dieses Feld leer. \nIch bestätige\, dass ich die Zimmerreservierung auf Basis der gültigen Preisliste und Stornierungsbedingungen durchführe. (https://www.rosenwaldhof.de/preise-und-stornierungsbedingungen/) (Pflichtfeld) \nIch bestätige\, dass ich die Datenschutzerklärung des Rosenwaldhof gelesen habe und sie akzeptiere. (https://www.rosenwaldhof.de/datenschutz-ds-gvo/) (Pflichtfeld) \nBitte beantworten Sie folgende Spamschutz-Frage: 40 plus 50 =  \n \n[/vc_column_text][/vc_tta_section][/vc_tta_accordion][/vc_column][/vc_row] 
URL:https://www.rosenwaldhof.de/event/ursulascribano_jodeln2019/
LOCATION:Rosenwaldhof\, Bergstraße 2\, Groß Kreutz (Havel)\, 14550\, Deutschland
GEO:52.4428131;12.7341275
X-APPLE-STRUCTURED-LOCATION;VALUE=URI;X-ADDRESS=Rosenwaldhof Bergstraße 2 Groß Kreutz (Havel) 14550 Deutschland;X-APPLE-RADIUS=500;X-TITLE=Bergstraße 2:geo:12.7341275,52.4428131
CATEGORIES:Persönlichkeit & Kreativität,Yoga
ATTACH;FMTTYPE=image/jpeg:https://www.rosenwaldhof.de/wp-content/uploads/2019/01/lu-und-ursula.jpg
ORGANIZER;CN="Ursula%20Scribano":MAILTO:info@singkraft.de
END:VEVENT
END:VCALENDAR