BEGIN:VCALENDAR
VERSION:2.0
PRODID:-//Rosenwaldhof - ECPv4.8//NONSGML v1.0//EN
CALSCALE:GREGORIAN
METHOD:PUBLISH
X-WR-CALNAME:Rosenwaldhof
X-ORIGINAL-URL:https://www.rosenwaldhof.de
X-WR-CALDESC:Veranstaltungen für Rosenwaldhof
BEGIN:VEVENT
DTSTART;VALUE=DATE:20170726
DTEND;VALUE=DATE:20170802
DTSTAMP:20260420T030003
CREATED:20161214T101659Z
LAST-MODIFIED:20170526T123302Z
UID:1174-1501027200-1501631999@www.rosenwaldhof.de
SUMMARY:Prasna-Upanishad erleben
DESCRIPTION:Dies ist erneut eine der wichtigsten Upanishaden des indischen Schrifttums. Sie befasst sich mit den grundlegendsten Fragen des Daseins wie der nach dem Wesen des Lebens und des Menschen\, mit der Essenz der Meditation und dem Symbol OM. Shrikrishna verbindet auf einzigartige Weise tiefgehende Philosophie mit praktischem Erleben\, die Reflexion der Weisheit in der Stille mit Alltagserfahrungen.\nDas Retreat beinhaltet ausgedehnte Praxisabschnitte für Pranayama\, Meditation und Mantra-Rezitation. Es findet im anteiligen Schweigen statt. \n…. (nur noch wenige Restplätze vorhanden) \nDieses Seminar steht allen Interessierten offen\, der Besuch von vorherigen Teilen dieser Seminarreihe ist keine Teilnahmevoraussetzung. Empfohlen wird jedoch\, den Text der Prashna-Upanishad im Vorfeld des Seminarbesuchs zu lesen und den Text zum Seminar mitzubringen. \n\nDr. Shrikrishna vermittelt nicht nur die Technik von Pranayama-Übungen auf äußerst präzise Weise\, sondern auch die subtile Essenz der philosophischen und psychologischen Grundlagen eines Yogaweges\, der auf authentischen Hintergründen einer lebendigen indischen Tradition beruht und der weit über das eher äußerliche Praktizieren von Körper-\, Atem- und Meditationsmethoden hinausgeht. Seine humorvolle Art des Lehrens verbindet geistige Präzision mit der Verkörperung tiefgehender Erfahrungen. Weitere Informationen zu Dr. Shrikrishna finden Sie auf seiner Webseite. \nBitte melden Sie sich für das Seminar direkt beim Veranstalter an. Ihr Zimmer im Rosenwaldhof reservieren Sie bitte mit folgendem Link. \n[vc_row][vc_column][vc_tta_accordion c_position=“right“ active_section=“1000″ collapsible_all=“true“][vc_tta_section title=“Zimmerreservierung bitte hier klicken.“ tab_id=“1484146577277-3de1b8b1-a9bd“][vc_column_text]\n\n\n\n\n\n\n\n\n\n Ihr Vorname (Pflichtfeld)\n      \n Ihr Nachname (Pflichtfeld)\n      \n Strasse (Pflichtfeld)\n      \n Postleitzahl (Pflichtfeld)\n      \n Ort (Pflichtfeld)\n      \n Telefon (Pflichtfeld)\n      \n Ihre E-Mail-Adresse (Pflichtfeld)\n      \nMein Zimmerwunsch 1 (bitte wählen)Einzelzimmer mit BadEinzelzimmer mit EtagenbadDoppelzimmer mit Bad \nMein Zimmerwunsch 2 (bitte wählen)Einzelzimmer mit BadEinzelzimmer mit EtagenbadDoppelzimmer mit Bad \nIch buche die Unterkunft und Verpflegung entsprechend den Vorgaben des SeminarveranstaltersIch habe besondere Hinweise zu meiner An-/Abreise\, Verpflegung oder Weiterem und teile diese im folgenden mit: \n Ihre Nachricht\n      \nBitte lasse dieses Feld leer. \nIch bestätige\, dass ich die Zimmerreservierung auf Basis der gültigen Preisliste und Stornierungsbedingungen durchführe. (https://www.rosenwaldhof.de/preise-und-stornierungsbedingungen/) (Pflichtfeld) \nIch bestätige\, dass ich die Datenschutzerklärung des Rosenwaldhof gelesen habe und sie akzeptiere. (https://www.rosenwaldhof.de/datenschutz-ds-gvo/) (Pflichtfeld) \nBitte beantworten Sie folgende Spamschutz-Frage: 0 plus 10 =  \n \n[/vc_column_text][/vc_tta_section][/vc_tta_accordion][/vc_column][/vc_row] 
URL:https://www.rosenwaldhof.de/event/upanishad-0717/
LOCATION:Rosenwaldhof\, Bergstr. 2\, Groß Kreutz\, 14550\, Deutschland
GEO:52.4427558;12.7339338
X-APPLE-STRUCTURED-LOCATION;VALUE=URI;X-ADDRESS=Rosenwaldhof Bergstr. 2 Groß Kreutz 14550 Deutschland;X-APPLE-RADIUS=500;X-TITLE=Bergstr. 2:geo:12.7339338,52.4427558
CATEGORIES:Meditation,Shrikrishna
ATTACH;FMTTYPE=image/jpeg:https://www.rosenwaldhof.de/wp-content/uploads/2016/12/Upanishaden5-1.jpg
ORGANIZER;CN="Dr.%20Shrikrishna%20B.%20Tengshe%20aus%20Mumbai":MAILTO:maya@rosenwaldhof.de
END:VEVENT
END:VCALENDAR