BEGIN:VCALENDAR
VERSION:2.0
PRODID:-//Rosenwaldhof - ECPv4.8//NONSGML v1.0//EN
CALSCALE:GREGORIAN
METHOD:PUBLISH
X-WR-CALNAME:Rosenwaldhof
X-ORIGINAL-URL:https://www.rosenwaldhof.de
X-WR-CALDESC:Veranstaltungen für Rosenwaldhof
BEGIN:VEVENT
DTSTART;VALUE=DATE:20210905
DTEND;VALUE=DATE:20210909
DTSTAMP:20260419T185046
CREATED:20210629T065145Z
LAST-MODIFIED:20210629T065145Z
UID:4398-1630800000-1631145599@www.rosenwaldhof.de
SUMMARY:TM-Vertiefungskurs
DESCRIPTION:Meditation\, Yoga Asanas\, Vedisches Wissen\, Vorträge per Video 
URL:https://www.rosenwaldhof.de/event/tm-vertiefungskurs/
LOCATION:Rosenwaldhof\, Bergstraße 2\, Groß Kreutz (Havel)\, 14550\, Deutschland
GEO:52.4428131;12.7341275
X-APPLE-STRUCTURED-LOCATION;VALUE=URI;X-ADDRESS=Rosenwaldhof Bergstraße 2 Groß Kreutz (Havel) 14550 Deutschland;X-APPLE-RADIUS=500;X-TITLE=Bergstraße 2:geo:12.7341275,52.4428131
CATEGORIES:Meditation,Yoga
ATTACH;FMTTYPE=image/jpeg:https://www.rosenwaldhof.de/wp-content/uploads/2020/11/thumb_IMG_7970_1024.jpg
ORGANIZER;CN="Gottfried%20Vollmer":MAILTO:gottfried.vollmer@web.de
END:VEVENT
END:VCALENDAR