BEGIN:VCALENDAR
VERSION:2.0
PRODID:-//Rosenwaldhof - ECPv4.8//NONSGML v1.0//EN
CALSCALE:GREGORIAN
METHOD:PUBLISH
X-WR-CALNAME:Rosenwaldhof
X-ORIGINAL-URL:https://www.rosenwaldhof.de
X-WR-CALDESC:Veranstaltungen für Rosenwaldhof
BEGIN:VEVENT
DTSTART;VALUE=DATE:20221023
DTEND;VALUE=DATE:20221031
DTSTAMP:20260419T154948
CREATED:20210817T134956Z
LAST-MODIFIED:20220621T060952Z
UID:4584-1666483200-1667174399@www.rosenwaldhof.de
SUMMARY:Ausbildung zum Coach für THE WORK (btw) Der Kurs wird im Haus Birnbaum stattfinden
DESCRIPTION:Der Kurs wird im Haus Birnbaum stattfinden\, nicht wie ursprünglich geplant im Rosenwaldhof. \nRetreat mit Stilleeinheiten\, Morgenspaziergang\, Plenumzeiten\, Partnerübungen \n \nInformation zu Seminarinhalten und Anmeldung unter: \nhttp://www.thework.berlin/ausbildung \n\nBitte melden Sie sich für das Seminar direkt beim Veranstalter an.  
URL:https://www.rosenwaldhof.de/event/the-work1-okt18-copy-2/
LOCATION:Rosenwaldhof\, Bergstr. 2\, Groß Kreutz\, 14550\, Deutschland
GEO:52.4427558;12.7339338
X-APPLE-STRUCTURED-LOCATION;VALUE=URI;X-ADDRESS=Rosenwaldhof Bergstr. 2 Groß Kreutz 14550 Deutschland;X-APPLE-RADIUS=500;X-TITLE=Bergstr. 2:geo:12.7339338,52.4427558
CATEGORIES:Persönlichkeit & Kreativität
ATTACH;FMTTYPE=image/jpeg:https://www.rosenwaldhof.de/wp-content/uploads/2021/08/THE-WORK-ROSENWALDHOF-See.jpg
ORGANIZER;CN="THE%20WORK%20Berlin%2C%20Kerstin%20Dambeck%20und%20Petra%20Dambeck-Winter":MAILTO:team@thework.berlin
END:VEVENT
END:VCALENDAR