BEGIN:VCALENDAR
VERSION:2.0
PRODID:-//Rosenwaldhof - ECPv4.8//NONSGML v1.0//EN
CALSCALE:GREGORIAN
METHOD:PUBLISH
X-WR-CALNAME:Rosenwaldhof
X-ORIGINAL-URL:https://www.rosenwaldhof.de
X-WR-CALDESC:Veranstaltungen für Rosenwaldhof
BEGIN:VEVENT
DTSTART;VALUE=DATE:20180510
DTEND;VALUE=DATE:20180514
DTSTAMP:20260419T204707
CREATED:20180309T154500Z
LAST-MODIFIED:20180505T163356Z
UID:2646-1525910400-1526255999@www.rosenwaldhof.de
SUMMARY:The Heart of Transformation (HOT): Integration – Meditation – Transformation - Leben mit intelligentem und visionären Körperbewusstsein\, Modul 1: Erdung & Verbundenheit
DESCRIPTION:\n„BEHERZT UND EINFÜHLSAM AN KÖRPERLICHE\, MENTALE UND SOZIALE GRENZEN GEHEN UND DARAN WACHSEN!\nDER EIGENEN BERUFUNG FOLGEN\, UND WICHTIGE PERSÖNLICHE UND GLOBALE SCHRITTE TUN!“ \n„The Heart of Transformation“ (HOT) als integrale Heilkunst steht für die dynamische und liebevolle Integration von Körper\, Geist und Seele. HOT ist eine Art Yoga der inneren und äußeren Beziehungen und schafft die Basis dafür\, den wesentlichen Herausforderungen des Lebens im Alltag sinnvoll und intelligent zu begegnen.\nZiel ist es\, mit einer kraftvollen (Körper)Haltung gut geerdet\, aufrecht und fokussiert durch das Leben zu gehen und mit diesem zentriertem Körperbewusstsein die Spannungsfelder unseres Lebens zu durchfühlen. Wir lernen\, unsere Zurückhaltung und Komfortzonen zu verlassen\, Qualitäten und Potenziale zu verkörpern und uns selbst und die Welt bewusst\, spielerisch und visionär zu transformieren. \nHOT-Funny English Trailer auf Youtube anschauen\nHOT-Einführung auf Youtube anschauen \nKONTEXT\nDas Jahresprogramm besteht aus 5 Modulen\, die auch einzeln buchbar sind!\nModul 1 + 2  (INTEGRATION)\nModul 3 (MEDITATION)\nModul 4 + 5 (TRANSFORMATION) \nMETHODEN & INHALTE MODUL 1\nDurch kreative Körperarbeit\, Tanz und Bewegung\, Naturerfahrungen und tief berührende Entspannungsübungen und inspirierende Erfahrungsräume\, jeder für sich und als Gruppe\, kommen wir ganz im Körper an. Wir erforschen die Art und Weise wie wir ihn bewohnen und uns mit ihm durch´s Leben bewegen. Ein ehrlicher und sanfter Reality Check!\nAußerdem erforschen wir\, wo jeder einzelne von uns in Bezug auf das Thema „Gemeinschaft des Lebens“ steht. Was bedeutet echte Verbundenheit auch jenseits von Bedürfnissen nach Nähe und Distanz? Wie können wir uns in Gemeinschaft einerseits auf gesunde Weise abgrenzen und gleichzeitig durchlässig und offen sein? \nZIEL\nDas Modul 1 bildet eine in sich abgerundete Einheit und dient dem Kennenlernen von HOT. Es schafft gleichzeitig eine Basis für das offene Jahrestraining und ermöglicht mehr Klarheit über persönliche Kernthemen zu erlangen. Das bedeutet u.a. zu erkennen was für konkrete (Wachstums)Schritte anstehen und wo das größte Transformationspotenzial liegt. \nInfo zu Modul 1 auf Youtube anschauen. \nMehr Infos zum Jahresprogramm  unter www.felixfalkenhahn.com \n  \n\n  \nBitte melden Sie sich für das Seminar direkt beim Veranstalter an. Ihr Zimmer im Rosenwaldhof reservieren Sie bitte mit folgendem Link. \n[vc_row][vc_column][vc_tta_accordion c_position=“right“ active_section=“1000″ collapsible_all=“true“][vc_tta_section title=“Zimmerreservierung bitte hier klicken.“ tab_id=“1484146577277-3de1b8b1-a9bd“][vc_column_text]\n\n\n\n\n\n\n\n\n\n Ihr Vorname (Pflichtfeld)\n      \n Ihr Nachname (Pflichtfeld)\n      \n Strasse (Pflichtfeld)\n      \n Postleitzahl (Pflichtfeld)\n      \n Ort (Pflichtfeld)\n      \n Telefon (Pflichtfeld)\n      \n Ihre E-Mail-Adresse (Pflichtfeld)\n      \nMein Zimmerwunsch 1 (bitte wählen)Einzelzimmer mit BadEinzelzimmer mit EtagenbadDoppelzimmer mit Bad \nMein Zimmerwunsch 2 (bitte wählen)Einzelzimmer mit BadEinzelzimmer mit EtagenbadDoppelzimmer mit Bad \nIch buche die Unterkunft und Verpflegung entsprechend den Vorgaben des SeminarveranstaltersIch habe besondere Hinweise zu meiner An-/Abreise\, Verpflegung oder Weiterem und teile diese im folgenden mit: \n Ihre Nachricht\n      \nBitte lasse dieses Feld leer. \nIch bestätige\, dass ich die Zimmerreservierung auf Basis der gültigen Preisliste und Stornierungsbedingungen durchführe. (https://www.rosenwaldhof.de/preise-und-stornierungsbedingungen/) (Pflichtfeld) \nIch bestätige\, dass ich die Datenschutzerklärung des Rosenwaldhof gelesen habe und sie akzeptiere. (https://www.rosenwaldhof.de/datenschutz-ds-gvo/) (Pflichtfeld) \nBitte beantworten Sie folgende Spamschutz-Frage: 0 plus 10 =  \n \n[/vc_column_text][/vc_tta_section][/vc_tta_accordion][/vc_column][/vc_row] 
URL:https://www.rosenwaldhof.de/event/the-heart-of-transformation-training-05-18/
LOCATION:Rosenwaldhof\, Bergstraße 2\, Groß Kreutz (Havel)\, 14550\, Deutschland
GEO:52.4428131;12.7341275
X-APPLE-STRUCTURED-LOCATION;VALUE=URI;X-ADDRESS=Rosenwaldhof Bergstraße 2 Groß Kreutz (Havel) 14550 Deutschland;X-APPLE-RADIUS=500;X-TITLE=Bergstraße 2:geo:12.7341275,52.4428131
CATEGORIES:Persönlichkeit & Kreativität
ORGANIZER;CN="Felix%20Falkenhahn":MAILTO:info@felixfalkenhahn.com
END:VEVENT
END:VCALENDAR