BEGIN:VCALENDAR
VERSION:2.0
PRODID:-//Rosenwaldhof - ECPv4.8//NONSGML v1.0//EN
CALSCALE:GREGORIAN
METHOD:PUBLISH
X-WR-CALNAME:Rosenwaldhof
X-ORIGINAL-URL:https://www.rosenwaldhof.de
X-WR-CALDESC:Veranstaltungen für Rosenwaldhof
BEGIN:VEVENT
DTSTART;VALUE=DATE:20210920
DTEND;VALUE=DATE:20210923
DTSTAMP:20260419T155028
CREATED:20210719T170915Z
LAST-MODIFIED:20210719T171034Z
UID:4484-1632096000-1632355199@www.rosenwaldhof.de
SUMMARY:Team-Tage/Co-Working Woche
DESCRIPTION:Gemeinsames Arbeiten und Sein\, Teamfindungsprozesse 
URL:https://www.rosenwaldhof.de/event/team-tage-co-working-woche/
LOCATION:Rosenwaldhof\, Bergstraße 2\, Groß Kreutz (Havel)\, 14550\, Deutschland
GEO:52.4428131;12.7341275
X-APPLE-STRUCTURED-LOCATION;VALUE=URI;X-ADDRESS=Rosenwaldhof Bergstraße 2 Groß Kreutz (Havel) 14550 Deutschland;X-APPLE-RADIUS=500;X-TITLE=Bergstraße 2:geo:12.7341275,52.4428131
CATEGORIES:geschlossene Gruppe
ORGANIZER;CN="AVE-institut":MAILTO:info@ave-institut.de
END:VEVENT
END:VCALENDAR