BEGIN:VCALENDAR
VERSION:2.0
PRODID:-//Rosenwaldhof - ECPv4.8//NONSGML v1.0//EN
CALSCALE:GREGORIAN
METHOD:PUBLISH
X-WR-CALNAME:Rosenwaldhof
X-ORIGINAL-URL:https://www.rosenwaldhof.de
X-WR-CALDESC:Veranstaltungen für Rosenwaldhof
BEGIN:VEVENT
DTSTART;VALUE=DATE:20220522
DTEND;VALUE=DATE:20220525
DTSTAMP:20260419T123151
CREATED:20210809T190235Z
LAST-MODIFIED:20220329T071847Z
UID:4551-1653177600-1653436799@www.rosenwaldhof.de
SUMMARY:Tanzreise
DESCRIPTION:Mit viel Freude tanzen wir zu ruhigen und schwungvollen Melodien aus verschiedenen Ländern \n \nAnmeldung und Zimmerbuchung  N U R  über den Veranstalter (s.u.) ! 
URL:https://www.rosenwaldhof.de/event/tanzreise/
LOCATION:Rosenwaldhof\, Bergstraße 2\, Groß Kreutz (Havel)\, 14550\, Deutschland
GEO:52.4428131;12.7341275
X-APPLE-STRUCTURED-LOCATION;VALUE=URI;X-ADDRESS=Rosenwaldhof Bergstraße 2 Groß Kreutz (Havel) 14550 Deutschland;X-APPLE-RADIUS=500;X-TITLE=Bergstraße 2:geo:12.7341275,52.4428131
CATEGORIES:geschlossene Gruppe,Persönlichkeit & Kreativität
ATTACH;FMTTYPE=image/jpeg:https://www.rosenwaldhof.de/wp-content/uploads/2021/08/item_589450_pic_1_orig.jpg
ORGANIZER;CN="Jacqueline%20Koch":MAILTO:jacqueline.koch@gmx.de
END:VEVENT
END:VCALENDAR