BEGIN:VCALENDAR
VERSION:2.0
PRODID:-//Rosenwaldhof - ECPv4.8//NONSGML v1.0//EN
CALSCALE:GREGORIAN
METHOD:PUBLISH
X-WR-CALNAME:Rosenwaldhof
X-ORIGINAL-URL:https://www.rosenwaldhof.de
X-WR-CALDESC:Veranstaltungen für Rosenwaldhof
BEGIN:VEVENT
DTSTART;VALUE=DATE:20170914
DTEND;VALUE=DATE:20170918
DTSTAMP:20260420T044235
CREATED:20161214T103721Z
LAST-MODIFIED:20170713T103355Z
UID:1194-1505347200-1505692799@www.rosenwaldhof.de
SUMMARY:Taiji
DESCRIPTION:Verwurzelung – Zentrierung – Wandlung\nGut verwurzelt\nMit dem Himmel verbunden\nDie aufrechte Haltung spüren\nDen Wandel durch Bewegungen erleben \nWir werden einige Taiji – und Qigong – Sequenzen\, z. B. den Kranichgang kennen lernen. Durch Dehnungsübungen\, Selbstmassagen\, Gleichgewichts- und Ruheübungen können wir den eigenen Körper in seiner Wandlungsfähigkeit erfahren. \nDas Seminar ist für alle geeignet. Vorkenntnisse sind nicht erforderlich. \n\nDozentinnen: \n\nVéronique und Brigitte\, Lehrerinnen für Taiji\nGemeinsame 5 Jährige Ausbildung in der Schule „Taiji Weg“\n2010 Anerkennung durch das Taijiquan\, Qigong Netzwerk Deutschland e.V \nErweitern ihre Übungsfelder kontinuierlich: \n\nVéronique nimmt regelmäßig an den Seminaren von Pius Brögle teil (Taiji Kreis Form nach Chungliang Al Huang)\nBrigitte ist zur Zeit in der Qigong Ausbildung der Medizinischen Gesellschaft für Qigong Yangsheng\nBeide leiten verschiedene Taiji – Qigong – und Sportgruppen an und führen regelmäßig gemeinsam Wochenendseminare durch.\n\n \nBitte melden Sie sich für das Seminar direkt beim Veranstalter an. Ihr Zimmer im Rosenwaldhof reservieren Sie bitte mit folgendem Link. \n[vc_row][vc_column][vc_tta_accordion c_position=“right“ active_section=“1000″ collapsible_all=“true“][vc_tta_section title=“Zimmerreservierung bitte hier klicken.“ tab_id=“1484146577277-3de1b8b1-a9bd“][vc_column_text]\n\n\n\n\n\n\n\n\n\n Ihr Vorname (Pflichtfeld)\n      \n Ihr Nachname (Pflichtfeld)\n      \n Strasse (Pflichtfeld)\n      \n Postleitzahl (Pflichtfeld)\n      \n Ort (Pflichtfeld)\n      \n Telefon (Pflichtfeld)\n      \n Ihre E-Mail-Adresse (Pflichtfeld)\n      \nMein Zimmerwunsch 1 (bitte wählen)Einzelzimmer mit BadEinzelzimmer mit EtagenbadDoppelzimmer mit Bad \nMein Zimmerwunsch 2 (bitte wählen)Einzelzimmer mit BadEinzelzimmer mit EtagenbadDoppelzimmer mit Bad \nIch buche die Unterkunft und Verpflegung entsprechend den Vorgaben des SeminarveranstaltersIch habe besondere Hinweise zu meiner An-/Abreise\, Verpflegung oder Weiterem und teile diese im folgenden mit: \n Ihre Nachricht\n      \nBitte lasse dieses Feld leer. \nIch bestätige\, dass ich die Zimmerreservierung auf Basis der gültigen Preisliste und Stornierungsbedingungen durchführe. (https://www.rosenwaldhof.de/preise-und-stornierungsbedingungen/) (Pflichtfeld) \nIch bestätige\, dass ich die Datenschutzerklärung des Rosenwaldhof gelesen habe und sie akzeptiere. (https://www.rosenwaldhof.de/datenschutz-ds-gvo/) (Pflichtfeld) \nBitte beantworten Sie folgende Spamschutz-Frage: 20 plus 40 =  \n \n[/vc_column_text][/vc_tta_section][/vc_tta_accordion][/vc_column][/vc_row] 
URL:https://www.rosenwaldhof.de/event/taiji-0917/
LOCATION:Rosenwaldhof\, Bergstr. 2\, Groß Kreutz\, 14550\, Deutschland
GEO:52.4427558;12.7339338
X-APPLE-STRUCTURED-LOCATION;VALUE=URI;X-ADDRESS=Rosenwaldhof Bergstr. 2 Groß Kreutz 14550 Deutschland;X-APPLE-RADIUS=500;X-TITLE=Bergstr. 2:geo:12.7339338,52.4427558
CATEGORIES:Meditation
ATTACH;FMTTYPE=image/png:https://www.rosenwaldhof.de/wp-content/uploads/2016/12/rwh_300_300.png
ORGANIZER;CN="Veronique%20Baude%20und%20Brigitte%20Schulze":MAILTO:verobaude@gmail.com (Veronique Baude), wohlgespannt@web.de (Brigitte Schulze)
END:VEVENT
END:VCALENDAR