BEGIN:VCALENDAR
VERSION:2.0
PRODID:-//Rosenwaldhof - ECPv4.8//NONSGML v1.0//EN
CALSCALE:GREGORIAN
METHOD:PUBLISH
X-WR-CALNAME:Rosenwaldhof
X-ORIGINAL-URL:https://www.rosenwaldhof.de
X-WR-CALDESC:Veranstaltungen für Rosenwaldhof
BEGIN:VEVENT
DTSTART;VALUE=DATE:20170518
DTEND;VALUE=DATE:20170522
DTSTAMP:20260420T021255
CREATED:20161214T092111Z
LAST-MODIFIED:20170112T120324Z
UID:1135-1495065600-1495411199@www.rosenwaldhof.de
SUMMARY:Taiji-Qigong-Meditation
DESCRIPTION:Auf diesem Seminar haben wir die Gelegenheit unter einem bestimmten Schwerpunkt wie z.B. den Wandlungsphasen / Elementen Holz\, Feuer\, Erde\, Metall und Wasser der traditionellen Chinesischen Medizin zu praktizieren und so unser Verständnis und Erleben der Taiji- und Qigong-Formen zu vertiefen. Buddhistische und daoistische Meditation unterstützt den Weg in die Stille und zu sich selbst. Dieses Seminar eignet sich sowohl für Beginnende\, als auch für langjährig Praktizierende verschiedener Qigong- und Taiji-Stile. \nSeminarinhalt: (Voraussichtlich – genaues Thema bitte kurzfristig erfragen bzw. Flyer anfordern) \n\nKlassische Taiji-Form\nAusgewählte Qigong-Übungen\nYin Yoga zur Vorbereitung des Sitzens\nBuddhistische und daoistische Meditation\n\nSeminarbeitrag: 190.- € plus Unterkunft und Verpflegung \n\nIsolde Schwarz \nSozialpädagogin\, Taiji- und Qigong seit 25 Jahren in eigener Schule „Taiji-Weg“ in Berlin. Seit 1997 ist Chungliang  Al Huang mein Lehrer für Taiji\, Chinesische Philosophie und Kalligrafie. Seit vielen Jahren bereichert Qigong\, Daoistische Energiearbeit sowie daoistische und buddhistische Meditation meine Übungspraxis und mein Leben. \n  \n  \n  \n  \n  \n  \nBitte melden Sie sich für das Seminar direkt beim Veranstalter an. Ihr Zimmer im Rosenwaldhof reservieren Sie bitte mit folgendem Link. \n[vc_row][vc_column][vc_tta_accordion c_position=“right“ active_section=“1000″ collapsible_all=“true“][vc_tta_section title=“Zimmerreservierung bitte hier klicken.“ tab_id=“1484146577277-3de1b8b1-a9bd“][vc_column_text]\n\n\n\n\n\n\n\n\n\n Ihr Vorname (Pflichtfeld)\n      \n Ihr Nachname (Pflichtfeld)\n      \n Strasse (Pflichtfeld)\n      \n Postleitzahl (Pflichtfeld)\n      \n Ort (Pflichtfeld)\n      \n Telefon (Pflichtfeld)\n      \n Ihre E-Mail-Adresse (Pflichtfeld)\n      \nMein Zimmerwunsch 1 (bitte wählen)Einzelzimmer mit BadEinzelzimmer mit EtagenbadDoppelzimmer mit Bad \nMein Zimmerwunsch 2 (bitte wählen)Einzelzimmer mit BadEinzelzimmer mit EtagenbadDoppelzimmer mit Bad \nIch buche die Unterkunft und Verpflegung entsprechend den Vorgaben des SeminarveranstaltersIch habe besondere Hinweise zu meiner An-/Abreise\, Verpflegung oder Weiterem und teile diese im folgenden mit: \n Ihre Nachricht\n      \nBitte lasse dieses Feld leer. \nIch bestätige\, dass ich die Zimmerreservierung auf Basis der gültigen Preisliste und Stornierungsbedingungen durchführe. (https://www.rosenwaldhof.de/preise-und-stornierungsbedingungen/) (Pflichtfeld) \nIch bestätige\, dass ich die Datenschutzerklärung des Rosenwaldhof gelesen habe und sie akzeptiere. (https://www.rosenwaldhof.de/datenschutz-ds-gvo/) (Pflichtfeld) \nBitte beantworten Sie folgende Spamschutz-Frage: 20 plus 40 =  \n \n[/vc_column_text][/vc_tta_section][/vc_tta_accordion][/vc_column][/vc_row] 
URL:https://www.rosenwaldhof.de/event/taiji-0517/
LOCATION:Rosenwaldhof\, Bergstr. 2\, Groß Kreutz\, 14550\, Deutschland
GEO:52.4427558;12.7339338
X-APPLE-STRUCTURED-LOCATION;VALUE=URI;X-ADDRESS=Rosenwaldhof Bergstr. 2 Groß Kreutz 14550 Deutschland;X-APPLE-RADIUS=500;X-TITLE=Bergstr. 2:geo:12.7339338,52.4427558
CATEGORIES:Meditation
ORGANIZER;CN="Isolde%20Schwarz":MAILTO:goldenflowers@aol.com
END:VEVENT
END:VCALENDAR