BEGIN:VCALENDAR
VERSION:2.0
PRODID:-//Rosenwaldhof - ECPv4.8//NONSGML v1.0//EN
CALSCALE:GREGORIAN
METHOD:PUBLISH
X-WR-CALNAME:Rosenwaldhof
X-ORIGINAL-URL:https://www.rosenwaldhof.de
X-WR-CALDESC:Veranstaltungen für Rosenwaldhof
BEGIN:VEVENT
DTSTART;VALUE=DATE:20181101
DTEND;VALUE=DATE:20181105
DTSTAMP:20260419T232610
CREATED:20171215T131707Z
LAST-MODIFIED:20180206T181324Z
UID:2570-1541030400-1541375999@www.rosenwaldhof.de
SUMMARY:Lebendige Stille erleben - 4 Tage Yoga und Meditation
DESCRIPTION:Mit Sylvia Zeller \n  \nEine Einladung an Dich\, in Kontakt zu kommen mit Deiner eigenen Stille und Lebendigkeit. \nEine Chance\, die Dinge aus neuer Perspektive zu sehen. \nEntspannende Herbsttage ganz für Dich: wir praktizieren nivata Yoga: Sonnen-\, Mond- und Sternengrüße und die Sequenzen des Götteryoga. \nWir meditieren im Sitzen (auf Stühlen) und im Stehen in langsamer und achtsamer Bewegung. Und wir geniessen die wunderschöne Havellandschaft rund um den Rosenwaldhof. In der Rückkehr zu unserer inneren Stille finden wir neue Sichtweisen und stellen fest\, dass eigentlich alles ganz einfach ist. \n \nDas Retreat ist gleichermassen geeignet für Anfänger wie bereits Yoga und/ oder Meditation Praktizierende. \n  \n  
URL:https://www.rosenwaldhof.de/event/sylviazeller-lebendigestille2018/
LOCATION:Rosenwaldhof\, Bergstraße 2\, Groß Kreutz (Havel)\, 14550\, Deutschland
GEO:52.4428131;12.7341275
X-APPLE-STRUCTURED-LOCATION;VALUE=URI;X-ADDRESS=Rosenwaldhof Bergstraße 2 Groß Kreutz (Havel) 14550 Deutschland;X-APPLE-RADIUS=500;X-TITLE=Bergstraße 2:geo:12.7341275,52.4428131
CATEGORIES:Meditation,Schweigeretreat,Yoga
ATTACH;FMTTYPE=image/jpeg:https://www.rosenwaldhof.de/wp-content/uploads/2017/03/sylvia-zeller.jpg
ORGANIZER;CN="Sylvia%20Zeller":MAILTO:sylvia.zeller@berlin.de
END:VEVENT
END:VCALENDAR