BEGIN:VCALENDAR
VERSION:2.0
PRODID:-//Rosenwaldhof - ECPv4.8//NONSGML v1.0//EN
CALSCALE:GREGORIAN
METHOD:PUBLISH
X-WR-CALNAME:Rosenwaldhof
X-ORIGINAL-URL:https://www.rosenwaldhof.de
X-WR-CALDESC:Veranstaltungen für Rosenwaldhof
BEGIN:VEVENT
DTSTART;VALUE=DATE:20200605
DTEND;VALUE=DATE:20200608
DTSTAMP:20260420T044044
CREATED:20200121T122459Z
LAST-MODIFIED:20200124T160812Z
UID:3496-1591315200-1591574399@www.rosenwaldhof.de
SUMMARY:Retreat mit den Künstler-Yogis: bewegen-spüren-gestalten-erzählen
DESCRIPTION:BaumArt – Sei ein Künstler-Yogi! \n  \n\nBewegung und Entspannung\nKreativität und künstlerischer Ausdruck\nReflexion und Gespräch\n\n  \n2008 haben wir die Künstler-Yogis gegründet und seitdem viele wundervolle Projekte für Kinder und Jugendliche konzipiert und durchgeführt\, von denen viele auf unserer Seite kuenstleryogis.de dokumentiert sind. \n  \nAusserdem veranstalten wir für alle Interessierten Wochenend-Retreats\, wo nun auch Erwachsene „Künstler-Yogis“  sein können. \n  \nJedes Retreat hat einen thematischen Schwerpunkt\, nach der die Yogaübungen\, Meditationen und kreativen Umsetzungen ausgewählt werden. \n  \nDAS ERWARTET DICH BEIM KÜNSTLER-YOGI RETREAT BaumArt \n \n \n  \nWährend dieses Retreats beschäftigen wir uns auf vielfältige Weise mit Bäumen\, an denen die Bewegungsformen und Übungen sowie auch die kreativen Schöpfungen ausgerichtet sind. \n  \nDer Baum thematisiert Standfestigkeit\, innere Ruhe und Konzentration bei gleichzeitiger Flexibilität und Anpassungsfähigkeit. Die Vielgestaltigkeit der Bäume bietet Erzählanlässe\, die unsere Vorstellungskraft ansprechen. Wir lassen unsere Fantasie schweifen und erfahren auf diese Weise Neues über uns selbst. \n  \nIm Austausch über das Erlebte und Erfahrene in der Gruppe eröffnen sich neue Perspektiven. \nDu stärkst die Verbindung zu Dir selbst und gewinnst an Vertrauen in eigene Lösungen. \n  \n \n  \nKursleitung: \nCarola Scheil\, Künstlerin \nSylvia Zeller\, Yogalehrerin\, Coach\, Meditationsleiterin \n  \nKosten Seminar: 289.- Euro \nFrühbucherrabatt bei Buchung und Bezahlung bis 30. April 2020: 249.- Euro \n  \nHinzu kommen die Kosten für Unterkunft und Verpflegung\, die beim Rosenwaldhof zu begleichen sind. \n  \nAnmeldung: info@kuenstleryogis.de \n0176 704 214 51 \n  \n \nWeitere Info\, Anmeldung und Zimmerbuchung bitte bei Sylvia Zeller.  
URL:https://www.rosenwaldhof.de/event/sylvia-zeller-kuenstleryogis-juni-20/
LOCATION:Rosenwaldhof\, Bergstr. 2\, Groß Kreutz\, 14550\, Deutschland
GEO:52.4427558;12.7339338
X-APPLE-STRUCTURED-LOCATION;VALUE=URI;X-ADDRESS=Rosenwaldhof Bergstr. 2 Groß Kreutz 14550 Deutschland;X-APPLE-RADIUS=500;X-TITLE=Bergstr. 2:geo:12.7339338,52.4427558
CATEGORIES:Persönlichkeit & Kreativität,Yoga
ATTACH;FMTTYPE=image/jpeg:https://www.rosenwaldhof.de/wp-content/uploads/2020/01/künstleryogis-baum.jpeg
ORGANIZER;CN="Sylvia%20Zeller":MAILTO:sylvia.zeller@berlin.de
END:VEVENT
END:VCALENDAR