BEGIN:VCALENDAR
VERSION:2.0
PRODID:-//Rosenwaldhof - ECPv4.8//NONSGML v1.0//EN
CALSCALE:GREGORIAN
METHOD:PUBLISH
X-WR-CALNAME:Rosenwaldhof
X-ORIGINAL-URL:https://www.rosenwaldhof.de
X-WR-CALDESC:Veranstaltungen für Rosenwaldhof
BEGIN:VEVENT
DTSTART;VALUE=DATE:20210917
DTEND;VALUE=DATE:20210920
DTSTAMP:20260419T160254
CREATED:20210629T084025Z
LAST-MODIFIED:20210705T153711Z
UID:4401-1631836800-1632095999@www.rosenwaldhof.de
SUMMARY:Yoga\, Achtsamkeit und Meditation gegen Burnout
DESCRIPTION:Was Dich erwartet: \n \n\nYogapraxis und -theorie\nAchtsamkeitsübungen\nAtemübungen\nEntspannungsübungen\nKonzentrationsübungen\nMeditation\nMantren-Singen\n\n  \n\nBitte melden Sie sich für das Seminar direkt beim Veranstalter an. Ihr Zimmer im Rosenwaldhof reservieren Sie bitte ebenfalls beim Veranstalter.\n
URL:https://www.rosenwaldhof.de/event/streich-rickel_yogagegenburnout2019-copy-2-copy/
LOCATION:Rosenwaldhof\, Bergstr. 2\, Groß Kreutz\, 14550\, Deutschland
GEO:52.4427558;12.7339338
X-APPLE-STRUCTURED-LOCATION;VALUE=URI;X-ADDRESS=Rosenwaldhof Bergstr. 2 Groß Kreutz 14550 Deutschland;X-APPLE-RADIUS=500;X-TITLE=Bergstr. 2:geo:12.7339338,52.4427558
CATEGORIES:MBSR,Meditation,Yoga
ATTACH;FMTTYPE=image/jpeg:https://www.rosenwaldhof.de/wp-content/uploads/2019/07/Pfingstrose-mittel.jpg
ORGANIZER;CN="Angela%20Streich-Rickel":MAILTO:streich_rickel@web.de
END:VEVENT
END:VCALENDAR