BEGIN:VCALENDAR
VERSION:2.0
PRODID:-//Rosenwaldhof - ECPv4.8//NONSGML v1.0//EN
CALSCALE:GREGORIAN
METHOD:PUBLISH
X-WR-CALNAME:Rosenwaldhof
X-ORIGINAL-URL:https://www.rosenwaldhof.de
X-WR-CALDESC:Veranstaltungen für Rosenwaldhof
BEGIN:VEVENT
DTSTART;VALUE=DATE:20211015
DTEND;VALUE=DATE:20211019
DTSTAMP:20260419T155322
CREATED:20210111T201942Z
LAST-MODIFIED:20210111T202147Z
UID:4131-1634256000-1634601599@www.rosenwaldhof.de
SUMMARY:Stille\, Kraft und Ruhe mit Yoga
DESCRIPTION:\nYoga\, Ayurveda\, Meditation\, Lifestyle\nRuhe\, Stille finden und so in die eigene Kraft kommen.\n
URL:https://www.rosenwaldhof.de/event/stille-kraft-und-ruhe-mit-yoga/
LOCATION:Rosenwaldhof\, Bergstraße 2\, Groß Kreutz (Havel)\, 14550\, Deutschland
GEO:52.4428131;12.7341275
X-APPLE-STRUCTURED-LOCATION;VALUE=URI;X-ADDRESS=Rosenwaldhof Bergstraße 2 Groß Kreutz (Havel) 14550 Deutschland;X-APPLE-RADIUS=500;X-TITLE=Bergstraße 2:geo:12.7341275,52.4428131
CATEGORIES:Meditation,Yoga
ATTACH;FMTTYPE=image/jpeg:https://www.rosenwaldhof.de/wp-content/uploads/2021/01/eadf3b_07bdc1dafd8a468aae6d3e41cafd2c1emv2_d_2873_3831_s_4_2.jpg
ORGANIZER;CN="Viola%20Rudloff":MAILTO:viola-rudloff@t-online.de
END:VEVENT
END:VCALENDAR