BEGIN:VCALENDAR
VERSION:2.0
PRODID:-//Rosenwaldhof - ECPv4.8//NONSGML v1.0//EN
CALSCALE:GREGORIAN
METHOD:PUBLISH
X-WR-CALNAME:Rosenwaldhof
X-ORIGINAL-URL:https://www.rosenwaldhof.de
X-WR-CALDESC:Veranstaltungen für Rosenwaldhof
BEGIN:VEVENT
DTSTART;VALUE=DATE:20230513
DTEND;VALUE=DATE:20230515
DTSTAMP:20260419T160508
CREATED:20230326T173657Z
LAST-MODIFIED:20230411T084814Z
UID:5683-1683936000-1684108799@www.rosenwaldhof.de
SUMMARY:Die Kraft Deiner Gedanken - Yoga und Persönlichkeitsentwicklung
DESCRIPTION:Ein Retreat für mehr Achtsamkeit\, Selbstbewusstsein und mentale Stärke. \nSeminarleitung: Stefanie Mauer & Jessica Heitepriem \n  \n„Wir sind\, was wir denken. Alles\, was wir sind\, entsteht aus unseren Gedanken. Mit unseren Gedanken formen wir die Welt.“ (Buddha) \nWann hast du das letzte mal etwas nur für Dich getan? Für Deinen Körper\, Deinen Geist und Deine Seele? \nAchtsamkeit\, Selbstbewusstsein\, Mentale Stärke. Diese Themen möchten wir gemeinsam mit Dir in das Zentrum unserer Aufmerksamkeit lenken. Wir tauchen ein in die Welt unserer Gefühle und Gedanken und erleben\, wie sie uns helfen ein erfülltes Leben zu führen.​ \nAuf euch wartet ein Wochenende mit liebevollem Yoga\, entspannter Meditation\, Coaching\, gutem Essen\, heilsamen Klängen\, Besuche in der Natur (direkt am Waldrand nahe der Havel) und tollen Menschen um dich herum zum Kraft tanken und Energie sammeln. Nimm Dir diese wertvolle Zeit für Dich und melde dich an! Die Plätze sind begrenzt. \nWann: 13.5.23 bis 14.5.23 (Anreise schon ab 12.05.2023 möglich um das Wochenende entspannt starten zu können) \nSeminargebühr: Early Bird 199 EUR (bis 15.04.2023)\, regular Bird 219 €\nzzgl. Übernachtung und Verpflegung \n \n \n  \n  \nAnmeldung\, Zimmerreservierung und weitere Informationen bei Stefanie Mauer \n  
URL:https://www.rosenwaldhof.de/event/stefanie-mauer-jessica-heitepriem-yogapersoenlichkeitsentw-13-14-mai-2023/
LOCATION:Rosenwaldhof\, Bergstraße 2\, Groß Kreutz (Havel)\, 14550\, Deutschland
GEO:52.4428131;12.7341275
X-APPLE-STRUCTURED-LOCATION;VALUE=URI;X-ADDRESS=Rosenwaldhof Bergstraße 2 Groß Kreutz (Havel) 14550 Deutschland;X-APPLE-RADIUS=500;X-TITLE=Bergstraße 2:geo:12.7341275,52.4428131
CATEGORIES:Persönlichkeit & Kreativität,Yoga
ORGANIZER;CN="Stefanie%20Mauer":MAILTO:stefanie@supernovacoaching.de
END:VEVENT
END:VCALENDAR