BEGIN:VCALENDAR
VERSION:2.0
PRODID:-//Rosenwaldhof - ECPv4.8//NONSGML v1.0//EN
CALSCALE:GREGORIAN
METHOD:PUBLISH
X-WR-CALNAME:Rosenwaldhof
X-ORIGINAL-URL:https://www.rosenwaldhof.de
X-WR-CALDESC:Veranstaltungen für Rosenwaldhof
BEGIN:VEVENT
DTSTART;VALUE=DATE:20180112
DTEND;VALUE=DATE:20180115
DTSTAMP:20260420T023349
CREATED:20170926T160742Z
LAST-MODIFIED:20171117T154649Z
UID:2418-1515715200-1515974399@www.rosenwaldhof.de
SUMMARY:Yoga Meets Qigong
DESCRIPTION:„Gute Energie tanken für 2018“ \n  Dynamik\, Meditation und Energieübertragung mit Nadja Solaya von Ribbeck \n„Yoga meets Qi Gong“ ist eine harmonische Lebensweise\, die uns wieder mit dem Universum und unseren Herzen verbindet… \nDie Besonderheit von „Yoga meets Qi Gong“ liegt in seiner ausgewogenen Kombination von dynamischen Kundalini Yogaübungen und meditativen Übungen aus dem medizinischen Qi Gong mit anschließender  Energieübertrag. \n  \n \nMedizinisches Qi Gong ist eine wirkungsvolle Selbstheilungsweise aus der Traditionellen Chinesischen Medizin. In Berührung mit Kundalini Yoga kannst du auf dynamisch-meditative Weise mehr Harmonie\, Heilung und  Fitness für dein Neues Jahr schaffen. \nSpezielle Yoga-Übungsreihen bereitet dich auf das meditative Nieren-Blasen-Qi Gong   vor – ein zu tiefst heilsamer Prozess der inneren Stille und Einkehr kommt in Gang.\nSelbstheilungskräfte werden aktiv und helfen uns gesund zu bleiben bzw. zu werden\, besonders in der kalten Jahreszeit. \nErschöpfung\, Gliederschmerzen\, allgemeiner Stresssymptomatik\, Gedächtnisverlust\, Hormonstörungen\, Schwerhörigkeit\, Haarausfall\, Rückenenbeschwerden und vieles mehr kann  vorgebeugt bzw. sogar geheilt werden. \nSeminarzeiten: \nFreitag 12. Januar 18 Uhr (mit dem Abendessen)\nbis 14. Januar\, 14 Uhr (nach dem Mittagessen). \nKosten: Seminargebühr 130 € bzw 110 € Frühbucher (bis 12.12.17 buchen)\, zzgl. Ü+V je nach Zimmerkategorie. \n\nSolaya Nadja von Ribbeck\n \nSeminar- und Kursleiterin im Yoga und Qi Gong\,  Heilpraktikerin\n\n\n\n  \n  \n„Seit über 20 Jahren unterstütze ich als Heilpraktikerin Menschen\, gesünder und bewusster zu werden. Parallel unterrichte ich mit Enthusiasmus Yoga und Qi Gong für Einzelpersonen und Gruppen. Ich möchte meine Kurteilnehmer*innen bzw. Klient*innen mit meiner Lebendigkeit und Gesundheit anstecken ;O) \nAuf diesem Weg erhoffe ich mir\, im größeren Umfang Menschen mit meinem Wissen und meiner Praxiserfahrung zu bereichern und zu inspirieren. \nEs ist mir ein tiefes Bedürfnis\, Menschen dabei zu unterstützen\, ihre Selbstheilungskräfte zu aktivieren und ihre schlummernden Potentiale zu entdecken und zu entfalten…“ \n  \n  \nMeine Qualifikationen: \nHeilpraktikerin seit 1995 in eigener Praxis \nAyurveda-\, mobile Stuhl und Vitalmassageausbildung seit 2001 \nKundalini Yoga-Kursleiterin seit 2008 \nQi Gong-Kursleiterin seit 2013 \nGFK-Grundausbildung 2013 \nSpezialgebiete: \nBeratung in Homöopathie\, ganzheitlicher Ernährung und Lebensweise \nMotivationstrainerin\, Problem- und Konfliktlösung (mit Ho’oponopono) \nMedizinisches Qi Gong \n \n\n\n\n  \n\nBitte melden Sie sich für das Seminar direkt beim Veranstalter an. Ihr Zimmer im Rosenwaldhof reservieren Sie bitte mit folgendem Link. \n[vc_row][vc_column][vc_tta_accordion c_position=“right“ active_section=“1000″ collapsible_all=“true“][vc_tta_section title=“Zimmerreservierung bitte hier klicken.“ tab_id=“1484146577277-3de1b8b1-a9bd“][vc_column_text]\n\n\n\n\n\n\n\n\n\n Ihr Vorname (Pflichtfeld)\n      \n Ihr Nachname (Pflichtfeld)\n      \n Strasse (Pflichtfeld)\n      \n Postleitzahl (Pflichtfeld)\n      \n Ort (Pflichtfeld)\n      \n Telefon (Pflichtfeld)\n      \n Ihre E-Mail-Adresse (Pflichtfeld)\n      \nMein Zimmerwunsch 1 (bitte wählen)Einzelzimmer mit BadEinzelzimmer mit EtagenbadDoppelzimmer mit Bad \nMein Zimmerwunsch 2 (bitte wählen)Einzelzimmer mit BadEinzelzimmer mit EtagenbadDoppelzimmer mit Bad \nIch buche die Unterkunft und Verpflegung entsprechend den Vorgaben des SeminarveranstaltersIch habe besondere Hinweise zu meiner An-/Abreise\, Verpflegung oder Weiterem und teile diese im folgenden mit: \n Ihre Nachricht\n      \nBitte lasse dieses Feld leer. \nIch bestätige\, dass ich die Zimmerreservierung auf Basis der gültigen Preisliste und Stornierungsbedingungen durchführe. (https://www.rosenwaldhof.de/preise-und-stornierungsbedingungen/) (Pflichtfeld) \nIch bestätige\, dass ich die Datenschutzerklärung des Rosenwaldhof gelesen habe und sie akzeptiere. (https://www.rosenwaldhof.de/datenschutz-ds-gvo/) (Pflichtfeld) \nBitte beantworten Sie folgende Spamschutz-Frage: 10 plus 30 =  \n \n[/vc_column_text][/vc_tta_section][/vc_tta_accordion][/vc_column][/vc_row] 
URL:https://www.rosenwaldhof.de/event/solayavonribbeck-0118/
LOCATION:Rosenwaldhof\, Bergstr. 2\, Groß Kreutz\, 14550\, Deutschland
GEO:52.4427558;12.7339338
X-APPLE-STRUCTURED-LOCATION;VALUE=URI;X-ADDRESS=Rosenwaldhof Bergstr. 2 Groß Kreutz 14550 Deutschland;X-APPLE-RADIUS=500;X-TITLE=Bergstr. 2:geo:12.7339338,52.4427558
CATEGORIES:Meditation,Yoga
ATTACH;FMTTYPE=image/png:https://www.rosenwaldhof.de/wp-content/uploads/2017/09/Solaya-Strand-e1521644714909.png
ORGANIZER;CN="Solaya%20Nadja%20von%20Ribbeck":MAILTO:solaya65@web.de
END:VEVENT
END:VCALENDAR