BEGIN:VCALENDAR
VERSION:2.0
PRODID:-//Rosenwaldhof - ECPv4.8//NONSGML v1.0//EN
CALSCALE:GREGORIAN
METHOD:PUBLISH
X-WR-CALNAME:Rosenwaldhof
X-ORIGINAL-URL:https://www.rosenwaldhof.de
X-WR-CALDESC:Veranstaltungen für Rosenwaldhof
BEGIN:VEVENT
DTSTART;VALUE=DATE:20210910
DTEND;VALUE=DATE:20210918
DTSTAMP:20260421T101721
CREATED:20210607T144350Z
LAST-MODIFIED:20210607T144350Z
UID:4354-1631232000-1631923199@www.rosenwaldhof.de
SUMMARY:Septemberfasten mit YinYoga und Ayurvedatips
DESCRIPTION:Wir betrachten unser Fasten aus ayurvedischer Perspektive mit Hinweisen für deine Tagesroutinen. Im Programm steht täglich YinYoga\, Ändern\, gegenseitige Massagen u.v.m. 
URL:https://www.rosenwaldhof.de/event/septemberfasten-mit-yinyoga-und-ayurvedatips/
LOCATION:Rosenwaldhof\, Bergstraße 2\, Groß Kreutz (Havel)\, 14550\, Deutschland
GEO:52.4428131;12.7341275
X-APPLE-STRUCTURED-LOCATION;VALUE=URI;X-ADDRESS=Rosenwaldhof Bergstraße 2 Groß Kreutz (Havel) 14550 Deutschland;X-APPLE-RADIUS=500;X-TITLE=Bergstraße 2:geo:12.7341275,52.4428131
ATTACH;FMTTYPE=image/png:https://www.rosenwaldhof.de/wp-content/uploads/2021/06/logo.png
ORGANIZER;CN="Manuela%20D%C3%B6ll":MAILTO:info@yogaela.de
END:VEVENT
END:VCALENDAR