BEGIN:VCALENDAR
VERSION:2.0
PRODID:-//Rosenwaldhof - ECPv4.8//NONSGML v1.0//EN
CALSCALE:GREGORIAN
METHOD:PUBLISH
X-WR-CALNAME:Rosenwaldhof
X-ORIGINAL-URL:https://www.rosenwaldhof.de
X-WR-CALDESC:Veranstaltungen für Rosenwaldhof
BEGIN:VEVENT
DTSTART;VALUE=DATE:20200918
DTEND;VALUE=DATE:20200921
DTSTAMP:20260420T023725
CREATED:20200901T193802Z
LAST-MODIFIED:20200901T193802Z
UID:3705-1600387200-1600646399@www.rosenwaldhof.de
SUMMARY:Schamanismus und Naturgeister
DESCRIPTION:In diesem Seminar wird durch direkte Erfahrung und auf vielfältige Weise Kontakt mit den Geistern der Natur hergestellt. 
URL:https://www.rosenwaldhof.de/event/schamanismus-und-naturgeister/
LOCATION:Rosenwaldhof\, Bergstraße 2\, Groß Kreutz (Havel)\, 14550\, Deutschland
GEO:52.4428131;12.7341275
X-APPLE-STRUCTURED-LOCATION;VALUE=URI;X-ADDRESS=Rosenwaldhof Bergstraße 2 Groß Kreutz (Havel) 14550 Deutschland;X-APPLE-RADIUS=500;X-TITLE=Bergstraße 2:geo:12.7341275,52.4428131
ORGANIZER;CN="Kai%20Goerlich":MAILTO:kaigo@gmx.net
END:VEVENT
END:VCALENDAR