BEGIN:VCALENDAR
VERSION:2.0
PRODID:-//Rosenwaldhof - ECPv4.8//NONSGML v1.0//EN
CALSCALE:GREGORIAN
METHOD:PUBLISH
X-WR-CALNAME:Rosenwaldhof
X-ORIGINAL-URL:https://www.rosenwaldhof.de
X-WR-CALDESC:Veranstaltungen für Rosenwaldhof
BEGIN:VEVENT
DTSTART;VALUE=DATE:20201228
DTEND;VALUE=DATE:20210102
DTSTAMP:20260419T221450
CREATED:20201006T135513Z
LAST-MODIFIED:20201208T193750Z
UID:3742-1609113600-1609545599@www.rosenwaldhof.de
SUMMARY:Rauhnächte erleben - Sylvesterretreat fällt wegen Corona leider aus
DESCRIPTION:INNEHALTEN UND BESINNUNG ZUM JAHRESWECHSEL\nDEN JAHRESWECHSEL BEWUSST ERLEBEN \nIm Wandel der Geschichte hat diese besondere Zeit  im Jahr viele Namen bekommen und ist unterschiedlich gefeiert worden. Uns als die Rauhnächte bekannt\, stellen die 12 heiligen Nächte vom 21.12. – 06.01 (Dreikönigstag) jeher ein kosmisches\, ein Naturereignis dar und wiederholen sich Jahr für Jahr. Im Einklang mit der Natur\, mit Bedacht und Achtsamkeit ist es in dieser mystischen Zeit möglich\, die Weichen für das bevorstehende Jahr günstig stellen. \nSeit jeher hat diese Zeit eine besondere Magie. Menschliche Begegnungen\, Ruhe\, Innenschau\, Liebe und der Jahreswechsel lösen eine besondere Stimmung aus\, dem eine besondere Kraft innewohnt. \nBESINNLICHKEIT ERLEBEN\nErlebe diese besonderen Tage besinnlich. Mit Morgen/ Abendmeditationen und genug Zeit für Dich alleine. Gemeinsam dem Innehalten Zeit widmen: mit Waldspaziergängen\, achtsamen Gesprächsrunden und Abendkreise mit Räucherungen\, Klängen und Geschichten. \nDabei werden wir das Jahr bewusst verabschieden\, Visionen für das neue Jahr entwickeln und uns auf das kommende Jahr einstimmen. \nWAS DICH ERWARETET\n\n\n\n\n\n\n\n\n\nMorgen-/ Abendmeditationen\nGeschichten und Mystik\nAbendkreis mit Klangreisen\, Räucherungen\, Ritualen\nSpaziergänge\nSilvesterritual\nZeit zum Entspannen und Genießen\nEinkehr\, Stille\, Besinnlichkeit\nNatur pur: alte Bäume\, schöne Landschaft\, die Havel und Waldseen\n4 Übernachtungen und leckere\, vegetarische Bio-Vollverpflegung\n\nDie Kurszeit findet entweder am Vor- oder Nachmittag statt. Die restliche Zeit steht zur freien Verfügung. \nDas Seminar ist für Frauen und Männer geeignet. Eine Teilnahme mit Hunde ist nicht möglich. \n
URL:https://www.rosenwaldhof.de/event/raubnaechte-erleben-sylvesterretreat/
LOCATION:Rosenwaldhof\, Bergstraße 2\, Groß Kreutz (Havel)\, 14550\, Deutschland
GEO:52.4428131;12.7341275
X-APPLE-STRUCTURED-LOCATION;VALUE=URI;X-ADDRESS=Rosenwaldhof Bergstraße 2 Groß Kreutz (Havel) 14550 Deutschland;X-APPLE-RADIUS=500;X-TITLE=Bergstraße 2:geo:12.7341275,52.4428131
CATEGORIES:Persönlichkeit & Kreativität
ATTACH;FMTTYPE=image/jpeg:https://www.rosenwaldhof.de/wp-content/uploads/2020/10/Rauhnächte-Silvesterretreat-300x225.jpg
ORGANIZER;CN="Petra%20Hinze":MAILTO:hinzepetra@web.de
END:VEVENT
END:VCALENDAR