BEGIN:VCALENDAR
VERSION:2.0
PRODID:-//Rosenwaldhof - ECPv4.8//NONSGML v1.0//EN
CALSCALE:GREGORIAN
METHOD:PUBLISH
X-WR-CALNAME:Rosenwaldhof
X-ORIGINAL-URL:https://www.rosenwaldhof.de
X-WR-CALDESC:Veranstaltungen für Rosenwaldhof
BEGIN:VEVENT
DTSTART;VALUE=DATE:20210125
DTEND;VALUE=DATE:20210201
DTSTAMP:20260419T221322
CREATED:20201111T111443Z
LAST-MODIFIED:20210104T163702Z
UID:3835-1611532800-1612137599@www.rosenwaldhof.de
SUMMARY:Pranayama und Meditation
DESCRIPTION:2.Retreat WB 6 – D Streaming-Online\, auch externe Teilnahme möglich \nEnglisch Übersetzung: Martina Bley 
URL:https://www.rosenwaldhof.de/event/pranayama-und-meditation-4/
LOCATION:Rosenwaldhof\, Bergstraße 2\, Groß Kreutz (Havel)\, 14550\, Deutschland
GEO:52.4428131;12.7341275
X-APPLE-STRUCTURED-LOCATION;VALUE=URI;X-ADDRESS=Rosenwaldhof Bergstraße 2 Groß Kreutz (Havel) 14550 Deutschland;X-APPLE-RADIUS=500;X-TITLE=Bergstraße 2:geo:12.7341275,52.4428131
CATEGORIES:geschlossene Gruppe,Shrikrishna
ATTACH;FMTTYPE=image/jpeg:https://www.rosenwaldhof.de/wp-content/uploads/2019/07/Pfingstrose-mittel.jpg
ORGANIZER;CN="Dr.%20Shrikrishna%20B.%20Tengshe%20aus%20Mumbai":MAILTO:maya@rosenwaldhof.de
END:VEVENT
END:VCALENDAR