BEGIN:VCALENDAR
VERSION:2.0
PRODID:-//Rosenwaldhof - ECPv4.8//NONSGML v1.0//EN
CALSCALE:GREGORIAN
METHOD:PUBLISH
X-WR-CALNAME:Rosenwaldhof
X-ORIGINAL-URL:https://www.rosenwaldhof.de
X-WR-CALDESC:Veranstaltungen für Rosenwaldhof
BEGIN:VEVENT
DTSTART;VALUE=DATE:20210922
DTEND;VALUE=DATE:20210927
DTSTAMP:20260419T172655
CREATED:20201118T103048Z
LAST-MODIFIED:20210720T095055Z
UID:3913-1632268800-1632700799@www.rosenwaldhof.de
SUMMARY:Pranayama und Meditation
DESCRIPTION:Gruppen A & B – 2. und 3. Wochenende \nKurssprache Deutsch \nMögliche Shuttle-Transfers vom Bahnhof Götz \nAnreise: 15.30h und 17.30h \nAbreise: Shuttle 13.30h 
URL:https://www.rosenwaldhof.de/event/pranayama-und-meditation-18/
LOCATION:Rosenwaldhof\, Bergstraße 2\, Groß Kreutz (Havel)\, 14550\, Deutschland
GEO:52.4428131;12.7341275
X-APPLE-STRUCTURED-LOCATION;VALUE=URI;X-ADDRESS=Rosenwaldhof Bergstraße 2 Groß Kreutz (Havel) 14550 Deutschland;X-APPLE-RADIUS=500;X-TITLE=Bergstraße 2:geo:12.7341275,52.4428131
CATEGORIES:geschlossene Gruppe,Shrikrishna,Yoga
ATTACH;FMTTYPE=image/jpeg:https://www.rosenwaldhof.de/wp-content/uploads/2016/12/Martina.jpeg
ORGANIZER;CN="Dr.%20Martina%20Bley":MAILTO:martina@rosenwaldhof.de
END:VEVENT
END:VCALENDAR