BEGIN:VCALENDAR
VERSION:2.0
PRODID:-//Rosenwaldhof - ECPv4.8//NONSGML v1.0//EN
CALSCALE:GREGORIAN
METHOD:PUBLISH
X-WR-CALNAME:Rosenwaldhof
X-ORIGINAL-URL:https://www.rosenwaldhof.de
X-WR-CALDESC:Veranstaltungen für Rosenwaldhof
BEGIN:VEVENT
DTSTART;VALUE=DATE:20210818
DTEND;VALUE=DATE:20210825
DTSTAMP:20260419T204448
CREATED:20201116T184743Z
LAST-MODIFIED:20210720T094857Z
UID:3880-1629244800-1629849599@www.rosenwaldhof.de
SUMMARY:Patanjali Retreat im Schweigen
DESCRIPTION:Patanjali Retreat \nKurssprache Englisch Übersetzung Martina Bley \nMögliche Shuttle-Transfers vom Bahnhof Götz \nAnreise: 13.30h und 14.30h \nAbreise: 13.30h 
URL:https://www.rosenwaldhof.de/event/pranayama-und-meditation-16/
LOCATION:Rosenwaldhof\, Bergstraße 2\, Groß Kreutz (Havel)\, 14550\, Deutschland
GEO:52.4428131;12.7341275
X-APPLE-STRUCTURED-LOCATION;VALUE=URI;X-ADDRESS=Rosenwaldhof Bergstraße 2 Groß Kreutz (Havel) 14550 Deutschland;X-APPLE-RADIUS=500;X-TITLE=Bergstraße 2:geo:12.7341275,52.4428131
CATEGORIES:Schweigeretreat,Shrikrishna,Yoga
ATTACH;FMTTYPE=image/jpeg:https://www.rosenwaldhof.de/wp-content/uploads/2020/11/IMG_7996.jpg
ORGANIZER;CN="Dr.%20Shrikrishna%20B.%20Tengshe%20aus%20Mumbai":MAILTO:maya@rosenwaldhof.de
END:VEVENT
END:VCALENDAR