BEGIN:VCALENDAR
VERSION:2.0
PRODID:-//Rosenwaldhof - ECPv4.8//NONSGML v1.0//EN
CALSCALE:GREGORIAN
METHOD:PUBLISH
X-WR-CALNAME:Rosenwaldhof
X-ORIGINAL-URL:https://www.rosenwaldhof.de
X-WR-CALDESC:Veranstaltungen für Rosenwaldhof
BEGIN:VEVENT
DTSTART;VALUE=DATE:20210729
DTEND;VALUE=DATE:20210802
DTSTAMP:20260419T234508
CREATED:20201116T183310Z
LAST-MODIFIED:20210720T094739Z
UID:3871-1627516800-1627862399@www.rosenwaldhof.de
SUMMARY:Pranayama und Meditation
DESCRIPTION:Verlängertes Wochenende Englisch Intensiv 1 \nKurssprache Englisch \nMögliche Shuttle-Transfers vom Bahnhof Götz \nAnreise: 13.30h und 14.30h \nAbreise: 13.30h 
URL:https://www.rosenwaldhof.de/event/pranayama-und-meditation-13/
LOCATION:Rosenwaldhof\, Bergstraße 2\, Groß Kreutz (Havel)\, 14550\, Deutschland
GEO:52.4428131;12.7341275
X-APPLE-STRUCTURED-LOCATION;VALUE=URI;X-ADDRESS=Rosenwaldhof Bergstraße 2 Groß Kreutz (Havel) 14550 Deutschland;X-APPLE-RADIUS=500;X-TITLE=Bergstraße 2:geo:12.7341275,52.4428131
CATEGORIES:geschlossene Gruppe,Shrikrishna
ATTACH;FMTTYPE=image/jpeg:https://www.rosenwaldhof.de/wp-content/uploads/2016/11/shrikrishna.jpg
ORGANIZER;CN="Dr.%20Shrikrishna%20B.%20Tengshe%20aus%20Mumbai":MAILTO:maya@rosenwaldhof.de
END:VEVENT
END:VCALENDAR