BEGIN:VCALENDAR
VERSION:2.0
PRODID:-//Rosenwaldhof - ECPv4.8//NONSGML v1.0//EN
CALSCALE:GREGORIAN
METHOD:PUBLISH
X-WR-CALNAME:Rosenwaldhof
X-ORIGINAL-URL:https://www.rosenwaldhof.de
X-WR-CALDESC:Veranstaltungen für Rosenwaldhof
BEGIN:VEVENT
DTSTART;VALUE=DATE:20221229
DTEND;VALUE=DATE:20230102
DTSTAMP:20260423T103636
CREATED:20221111T182255Z
LAST-MODIFIED:20221213T105959Z
UID:5381-1672272000-1672617599@www.rosenwaldhof.de
SUMMARY:Rauhnachts-Silvesterretreat - Innehalten und Besinnung zum Jahreswechsel
DESCRIPTION:Den Jahreswechsel bewusst erleben \nIm Wandel der Geschichte hat diese besondere Zeit  im Jahr viele Namen bekommen und ist unterschiedlich gefeiert worden. Uns als die Rauhnächte bekannt\, stellen die 12 heiligen Nächte vom 21.12. – 06.01 (Dreikönigstag) jeher ein kosmisches\, ein Naturereignis dar und wiederholen sich Jahr für Jahr. Im Einklang mit der Natur\, mit Bedacht und Achtsamkeit ist es in dieser mystischen Zeit möglich\, die Weichen für das bevorstehende Jahr günstig stellen. \nSeit jeher hat diese Zeit eine besondere Magie. Menschliche Begegnungen\, Ruhe\, Innenschau\, Liebe und der Jahreswechsel lösen eine besondere Stimmung aus\, dem eine besondere Kraft innewohnt. \n„Besinnlichkeit erleben“\nErlebe diese besonderen Tage besinnlich. Mit Morgen/ Abendmeditationen und genug Zeit für Dich alleine. Gemeinsam dem Innehalten Zeit widmen: mit Waldspaziergängen\, achtsamen Gesprächsrunden und Abendkreise mit Räucherungen\, Klängen und Geschichten. \nDabei werden wir das Jahr bewusst verabschieden\, Visionen für das neue Jahr entwickeln und uns auf das kommende Jahr einstimmen. \nWas Dich erwartet: \n•    Morgen-/ Abendmeditationen\n•    Geschichten und Mystik\n•    Abendkreis mit Klangreisen\, Räucherungen\, Ritualen\n•    Spaziergänge\n•    Silvesterritual \n•    Zeit zum Entspannen und Genießen\n•    Einkehr\, Stille\, Besinnlichkeit\n•    Natur pur: alte Bäume\, schöne Landschaft\, die Havel und Waldseen\n•    4 Übernachtungen und leckere\, vegetarische Bio-Vollverpflegung \nDie Kurszeit findet entweder am Vor- oder Nachmittag statt. Die restliche Zeit steht zur freien Verfügung. \n\nSeminargebühr: 350 € – Frühbucher 320 € bis 30.11. \nKursleitung: Petra Hinze\nHeilpraxis – Seminare – Rituale \nSpezialisiert auf:\nangewandtes Heilwissen\nganzheitliche Frauenkunde\nBrauchtum \n \n\n  \nAnmeldung und Zimmerreservierung bitte direkt bei Petra Hinze.
URL:https://www.rosenwaldhof.de/event/petra-hinze-silvester-29-dez-22/
LOCATION:Rosenwaldhof\, Bergstraße 2\, Groß Kreutz (Havel)\, 14550\, Deutschland
GEO:52.4428131;12.7341275
X-APPLE-STRUCTURED-LOCATION;VALUE=URI;X-ADDRESS=Rosenwaldhof Bergstraße 2 Groß Kreutz (Havel) 14550 Deutschland;X-APPLE-RADIUS=500;X-TITLE=Bergstraße 2:geo:12.7341275,52.4428131
CATEGORIES:Highlight,Meditation,Persönlichkeit & Kreativität
ATTACH;FMTTYPE=image/jpeg:https://www.rosenwaldhof.de/wp-content/uploads/2017/01/Herbst-Winter-Stimmung-e1504002556580.jpg
ORGANIZER;CN="Petra%20Hinze":MAILTO:hinzepetra@web.de
END:VEVENT
END:VCALENDAR