BEGIN:VCALENDAR
VERSION:2.0
PRODID:-//Rosenwaldhof - ECPv4.8//NONSGML v1.0//EN
CALSCALE:GREGORIAN
METHOD:PUBLISH
X-WR-CALNAME:Rosenwaldhof
X-ORIGINAL-URL:https://www.rosenwaldhof.de
X-WR-CALDESC:Veranstaltungen für Rosenwaldhof
BEGIN:VEVENT
DTSTART;VALUE=DATE:20220815
DTEND;VALUE=DATE:20220822
DTSTAMP:20260419T141207
CREATED:20220323T104335Z
LAST-MODIFIED:20220323T104427Z
UID:4930-1660521600-1661126399@www.rosenwaldhof.de
SUMMARY:Patanjali Retreat mit Dr. Shrikrishna
DESCRIPTION:\nDr. Shrikrishna vermittelt nicht nur die Technik von Pranayama-Übungen auf äußerst präzise Weise\, sondern auch die subtile Essenz der philosophischen und psychologischen Grundlagen eines Yogaweges\, der auf authentischen Hintergründen einer lebendigen indischen Tradition beruht und der weit über das eher äußerliche Praktizieren von Körper-\, Atem- und Meditationsmethoden hinausgeht. Seine humorvolle Art des Lehrens verbindet geistige Präzision mit der Verkörperung tiefgehender Erfahrungen. Weitere Informationen zu Dr. Shrikrishna finden Sie auf seiner Webseite. \nEs handelt sich hierbei um eine geschlossene Gruppe.\nAnmeldung und Zimmerbuchung  N U R  über den Veranstalter (s.u.) ! 
URL:https://www.rosenwaldhof.de/event/patanjali-retreat-2022/
LOCATION:Rosenwaldhof\, Bergstraße 2\, Groß Kreutz (Havel)\, 14550\, Deutschland
GEO:52.4428131;12.7341275
X-APPLE-STRUCTURED-LOCATION;VALUE=URI;X-ADDRESS=Rosenwaldhof Bergstraße 2 Groß Kreutz (Havel) 14550 Deutschland;X-APPLE-RADIUS=500;X-TITLE=Bergstraße 2:geo:12.7341275,52.4428131
CATEGORIES:Meditation,Schweigeretreat,Shrikrishna,Yoga
ATTACH;FMTTYPE=image/jpeg:https://www.rosenwaldhof.de/wp-content/uploads/2021/11/IMG_0623.jpg
ORGANIZER;CN="Dr.%20Shrikrishna%20B.%20Tengshe%20aus%20Mumbai":MAILTO:maya@rosenwaldhof.de
END:VEVENT
END:VCALENDAR