BEGIN:VCALENDAR
VERSION:2.0
PRODID:-//Rosenwaldhof - ECPv4.8//NONSGML v1.0//EN
CALSCALE:GREGORIAN
METHOD:PUBLISH
X-WR-CALNAME:Rosenwaldhof
X-ORIGINAL-URL:https://www.rosenwaldhof.de
X-WR-CALDESC:Veranstaltungen für Rosenwaldhof
BEGIN:VEVENT
DTSTART;VALUE=DATE:20220717
DTEND;VALUE=DATE:20220722
DTSTAMP:20260419T141317
CREATED:20220621T181536Z
LAST-MODIFIED:20220621T184505Z
UID:5175-1658016000-1658447999@www.rosenwaldhof.de
SUMMARY:Auszeit für Dich
DESCRIPTION:\n\n\nVerspürst du das Bedürfnis in dir nach Entschleunigung\, Ruhe\, Abstand zu Verpflichtungen und Begegnungen mit achtsamen Menschen? \n \nDann fühle dich eingeladen zu dieser „Auszeit für Dich“ in einem ruhiggelegenen Seminarhaus in der Natur des Havellandes.\nDie wunderschöne Landschaft ringsherum trägt wesentlich dazu bei\, in dir Ruhe und Entspannung entstehen zu lassen. \nDie von mir angebotenen Seminarinhalte sind praktischer Natur.\nIn Gesprächskreisen thematisieren wir die Grundlagen für Veränderungen und führen uns durch praktische Übungen zu Lösungswegen.\nEin wichtiger Bestandteil werden dabei Begegnungen mit der Natur sein. Das Erfahrene ist für jeden einfach im Alltag einzubeziehen. \nIch freue mich auf euch. \n–\n \nDie Seminargebühr beträgt 340 €. Hinzu kommen noch die Kosten für Unterkunft und Verpflegung\, die direkt mit dem Rosenwaldhof abgerechnet werden. \nFür weitere Informationen\, Seminaranmeldung und Zimmerbuchung kontaktieren Sie bitte die Veranstalterin Anna Ondreka.  \n\n\n
URL:https://www.rosenwaldhof.de/event/ondreka-auszeit-17-juli-22/
LOCATION:Rosenwaldhof\, Bergstraße 2\, Groß Kreutz (Havel)\, 14550\, Deutschland
GEO:52.4428131;12.7341275
X-APPLE-STRUCTURED-LOCATION;VALUE=URI;X-ADDRESS=Rosenwaldhof Bergstraße 2 Groß Kreutz (Havel) 14550 Deutschland;X-APPLE-RADIUS=500;X-TITLE=Bergstraße 2:geo:12.7341275,52.4428131
CATEGORIES:Meditation,Persönlichkeit & Kreativität
ATTACH;FMTTYPE=image/jpeg:https://www.rosenwaldhof.de/wp-content/uploads/2022/06/Havellan2.jpeg
ORGANIZER;CN="Anna%20Ondreka":MAILTO:anna.ondreka@posteo.de
END:VEVENT
END:VCALENDAR