BEGIN:VCALENDAR
VERSION:2.0
PRODID:-//Rosenwaldhof - ECPv4.8//NONSGML v1.0//EN
CALSCALE:GREGORIAN
METHOD:PUBLISH
X-WR-CALNAME:Rosenwaldhof
X-ORIGINAL-URL:https://www.rosenwaldhof.de
X-WR-CALDESC:Veranstaltungen für Rosenwaldhof
BEGIN:VEVENT
DTSTART;VALUE=DATE:20170227
DTEND;VALUE=DATE:20170306
DTSTAMP:20260420T004118
CREATED:20161207T182907Z
LAST-MODIFIED:20170111T224030Z
UID:1104-1488153600-1488758399@www.rosenwaldhof.de
SUMMARY:Pranayama und Meditation mit Dr. Shrikrishna
DESCRIPTION:Ein Retreat mit Dr. Shrikrishna bietet den Teilnehmern die Möglichkeit\, eine einzigartige Kombination aus Yoga-Philosophie und Yoga-Praxis zu erleben mit Betonung der in die Stille führenden Pranayama-Praxis. \nDr. Shrikrishna führt mit großer Weisheit\, Kompetenz\, Geduld und Einfühlungsvermögen die Teilnehmer in meditative Zustände durch Pranayama\, Yoga-Philosophie und eigenes inneres Erforschen. Der Fokus ist ausgerichtet auf die Entwicklung der Pranayama-Praxis und wie der Zustand von Achtsamkeit entwickelt werden kann\, der auch im Alltag erforderlich ist. Die Betonung liegt auf dem Erleben der inneren Stille\, die aufgrund dieser Praxis entsteht. Theoretische\, philosophische und technische Aspekte von Pranayama werden angesprochen. \nBesonderer Hinweis: Es handelt sich um ein Schweige-Seminar! An den ersten 2 Tagen wird allmählich in das Schweigen geführt\, die mittleren 3 Tage finden in vollkommenem Schweigen statt (mit Ausnahme der Philosophiestunden). \nDas Retreat wird begleitet und assistiert von Renate Rohrmoser\, die auch während der Schweigezeit bei Problemen ansprechbar ist. \nDie Teilnehmer sollten gut vorbereitet anreisen\, um die bestmögliche Wirkung aufgrund der allmählich länger werdenden Phasen der Stille erfahren zu können\, damit die Freiheit vom Sprechen und Denken genutzt werden kann\, Achtsamkeit zu entwickeln. \nÜbersetzung/Seminarleitung: Renate Rohrmoser \nTeilnehmen können: Yogalehrer\, angehende Yogalehrer\, fortgeschrittene Yoga Praktizierende\, Interessierte nach Rücksprache \nBitte mitbringen: warme bequeme Kleidung\, Sitzkissen\, Matten und Decken sind im Seminarhaus vorhanden\, es können auch eigene mitgebracht werden \nUnterkunft/Verpflegung: 61 – 86 € (pro Tag) je nach Unterbringung\nSeminargebühr: 530 € \nAnmeldung und Zimmerbuchung  N U R  über den Veranstalter Renate Rohrmoser (s.u.) ! \n\nDr. Shrikrishna vermittelt nicht nur die Technik von Pranayama-Übungen auf äußerst präzise Weise\, sondern auch die subtile Essenz der philosophischen und psychologischen Grundlagen eines Yogaweges\, der auf authentischen Hintergründen einer lebendigen indischen Tradition beruht und der weit über das eher äußerliche Praktizieren von Körper-\, Atem- und Meditationsmethoden hinausgeht. Seine humorvolle Art des Lehrens verbindet geistige Präzision mit der Verkörperung tiefgehender Erfahrungen. Weitere Informationen zu Dr. Shrikrishna finden Sie auf seiner Webseite. \n  \n  \n  \n  \n  
URL:https://www.rosenwaldhof.de/event/offenes-seminar-shrikrishna-0217/
LOCATION:Rosenwaldhof\, Bergstr. 2\, Groß Kreutz\, 14550\, Deutschland
GEO:52.4427558;12.7339338
X-APPLE-STRUCTURED-LOCATION;VALUE=URI;X-ADDRESS=Rosenwaldhof Bergstr. 2 Groß Kreutz 14550 Deutschland;X-APPLE-RADIUS=500;X-TITLE=Bergstr. 2:geo:12.7339338,52.4427558
CATEGORIES:Meditation,Shrikrishna
ATTACH;FMTTYPE=image/jpeg:https://www.rosenwaldhof.de/wp-content/uploads/2016/11/shrikrishna_270_270.jpg
ORGANIZER;CN="Dr.%20Shrikrishna%20B.%20Tengshe%20%28Organisation%20Renate%20Rohrmoser%29":MAILTO:koeln@yoga-begegnung.de
END:VEVENT
END:VCALENDAR