BEGIN:VCALENDAR
VERSION:2.0
PRODID:-//Rosenwaldhof - ECPv4.8//NONSGML v1.0//EN
CALSCALE:GREGORIAN
METHOD:PUBLISH
X-WR-CALNAME:Rosenwaldhof
X-ORIGINAL-URL:https://www.rosenwaldhof.de
X-WR-CALDESC:Veranstaltungen für Rosenwaldhof
BEGIN:VEVENT
DTSTART;VALUE=DATE:20201002
DTEND;VALUE=DATE:20201005
DTSTAMP:20260420T023740
CREATED:20200901T194807Z
LAST-MODIFIED:20200901T194807Z
UID:3709-1601596800-1601855999@www.rosenwaldhof.de
SUMMARY:Neustart 2020 Qi Yoga-Wochenende mit Solaya
DESCRIPTION:Kundalini Yoga und Med.Qigong\, Erfahrungen und Berührungen mit sich selbst über  Yoga und QiGong\, Meditation und die Gruppe 
URL:https://www.rosenwaldhof.de/event/neustart-2020-qi-yoga-wochenende-mit-solaya/
LOCATION:Rosenwaldhof\, Bergstraße 2\, Groß Kreutz (Havel)\, 14550\, Deutschland
GEO:52.4428131;12.7341275
X-APPLE-STRUCTURED-LOCATION;VALUE=URI;X-ADDRESS=Rosenwaldhof Bergstraße 2 Groß Kreutz (Havel) 14550 Deutschland;X-APPLE-RADIUS=500;X-TITLE=Bergstraße 2:geo:12.7341275,52.4428131
ORGANIZER;CN="Solaya%20Nadja%20von%20Ribbeck":MAILTO:solaya65@web.de
END:VEVENT
END:VCALENDAR