BEGIN:VCALENDAR
VERSION:2.0
PRODID:-//Rosenwaldhof - ECPv4.8//NONSGML v1.0//EN
CALSCALE:GREGORIAN
METHOD:PUBLISH
X-WR-CALNAME:Rosenwaldhof
X-ORIGINAL-URL:https://www.rosenwaldhof.de
X-WR-CALDESC:Veranstaltungen für Rosenwaldhof
BEGIN:VEVENT
DTSTART;VALUE=DATE:20210107
DTEND;VALUE=DATE:20210111
DTSTAMP:20260423T120534
CREATED:20201006T141048Z
LAST-MODIFIED:20201215T144205Z
UID:3746-1609977600-1610323199@www.rosenwaldhof.de
SUMMARY:MBSR-LehrerInnen Ausbildung findet Online statt
DESCRIPTION:Geschlossene Veranstaltung Infos unter: https://www.institut-fuer-achtsamkeit.de 
URL:https://www.rosenwaldhof.de/event/mbsr-lehrerinnen-ausbildung/
LOCATION:Rosenwaldhof\, Bergstraße 2\, Groß Kreutz (Havel)\, 14550\, Deutschland
GEO:52.4428131;12.7341275
X-APPLE-STRUCTURED-LOCATION;VALUE=URI;X-ADDRESS=Rosenwaldhof Bergstraße 2 Groß Kreutz (Havel) 14550 Deutschland;X-APPLE-RADIUS=500;X-TITLE=Bergstraße 2:geo:12.7341275,52.4428131
CATEGORIES:geschlossene Gruppe,MBSR
ATTACH;FMTTYPE=image/jpeg:https://www.rosenwaldhof.de/wp-content/uploads/2016/12/WinterretreatSylviaZellerSchneeflocke2019Bild.jpg
END:VEVENT
END:VCALENDAR