BEGIN:VCALENDAR
VERSION:2.0
PRODID:-//Rosenwaldhof - ECPv4.8//NONSGML v1.0//EN
CALSCALE:GREGORIAN
METHOD:PUBLISH
X-WR-CALNAME:Rosenwaldhof
X-ORIGINAL-URL:https://www.rosenwaldhof.de
X-WR-CALDESC:Veranstaltungen für Rosenwaldhof
BEGIN:VEVENT
DTSTART;VALUE=DATE:20211008
DTEND;VALUE=DATE:20211011
DTSTAMP:20260419T155148
CREATED:20201109T192142Z
LAST-MODIFIED:20201109T200205Z
UID:3809-1633651200-1633910399@www.rosenwaldhof.de
SUMMARY:MBSR-LehrerInnen Ausbildung
DESCRIPTION:MBSR LehrerInnenausbildung\, Infos unter: https://www.institut-fuer-achtsamkeit.de 
URL:https://www.rosenwaldhof.de/event/mbsr-lehrerinnen-ausbildung-3/
LOCATION:Rosenwaldhof\, Bergstraße 2\, Groß Kreutz (Havel)\, 14550\, Deutschland
GEO:52.4428131;12.7341275
X-APPLE-STRUCTURED-LOCATION;VALUE=URI;X-ADDRESS=Rosenwaldhof Bergstraße 2 Groß Kreutz (Havel) 14550 Deutschland;X-APPLE-RADIUS=500;X-TITLE=Bergstraße 2:geo:12.7341275,52.4428131
CATEGORIES:MBSR
ATTACH;FMTTYPE=image/jpeg:https://www.rosenwaldhof.de/wp-content/uploads/2016/12/m_IMG_2038.jpg
END:VEVENT
END:VCALENDAR