BEGIN:VCALENDAR
VERSION:2.0
PRODID:-//Rosenwaldhof - ECPv4.8//NONSGML v1.0//EN
CALSCALE:GREGORIAN
METHOD:PUBLISH
X-WR-CALNAME:Rosenwaldhof
X-ORIGINAL-URL:https://www.rosenwaldhof.de
X-WR-CALDESC:Veranstaltungen für Rosenwaldhof
BEGIN:VEVENT
DTSTART;VALUE=DATE:20181222
DTEND;VALUE=DATE:20181228
DTSTAMP:20260419T185058
CREATED:20180726T115625Z
LAST-MODIFIED:20180801T193503Z
UID:2844-1545436800-1545955199@www.rosenwaldhof.de
SUMMARY:Malen mit Luisa Landsberg
DESCRIPTION:\n\n\nKreativ und gestalterisch\, fernab von Allem!\n\n\nDie Weihnachtstage kreativ-besinnlich verbringen. Malen in einem ruhigen\, stillen Seminarhaus inmitten der unberührten Havellandschaft. Zeit für sich und die eigene Kreativität. Zur Ruhe kommen und neue Inspirationen gewinnen. Miteinander sein und sich verwöhnen lassen mit leckerstem Essen. \nFür den Malkurs\, angeleitet durch die Berliner Künstlerin und Malerin Luisa Landsberg\, könnt Ihr ungezwungen\, ohne Scheu\, der eigenen Kreativität folgen und in den schöpferischen Prozess des Gestaltens eintauchen. Malen\, zeichnen\, mit Acryl\, Tempera\, Kreide\, Stiften\, auf Leinwand und/oder Papier ……. alles liegt bereit.\nIndividuelle Begleitung unterstützt das Suchen/Finden. Und Ihr könnt den Malraum durchgehend nutzen. \nGemeinsam können wir einen Blick wertschätzend auf die eigenen Werke  und die der anderen Kursteilnehmerinnen richten\, uns austauschen\, beleben und die Freude über unser Tun miteinander teilen. \nVorkenntnisse sind nicht erforderlich \nMalen und mehr!\nParallel zum Malkurs (ca. 20 Std.) findet im großzügigen Seminarhaus ein Entspannungskurs mit Doris Schmidt statt. Beide Kurse werden zusammen die Mahlzeiten einnehmen\, am 24.12. eine Wanderung unternehmen und einer schönen Geschichte lauschen. Und wenn die Malerinnen Lust haben\, können sie auch beim morgendlichen Entspannungskurs und abendlichen Vorlesen dabei sein. Der andere Kurs wiederum kann einmal einen offenen Abend beim Malen genießen. \nUnterkunft\nAmbiente pur im Havelland! Der Rosenwaldhof ist ein stilles Seminarhaus und Retreatzentrum in der Region Berlin und liegt idyllisch am Waldrand in der Nähe zahlreicher Seen\, unweit vom Ufer der naturbelassenen Havel mit ihren ausgedehnten Flussauen. Der Götzer Berg hinterm Haus ist 108 m hoch und hat auf dem höchsten Punkt einen Aussichtsturm\, der einen Panoramablick über das Havelland ermöglicht. Die atmosphärisch eingerichteten Zimmer sind größtenteils mit Dusche\, WC und Telefon ausgestattet. Der Rosenwaldhof ist ein rauchfreies Haus und alle Zimmer sind Nichtraucherinnenzimmer. Den Gruppen stehen schöne Seminarräume zur Verfügung sowie ein lichter Wintergarten\, eine Bibliothek und eine Feuerstelle im Garten.  Alles kann\, nichts muß. \nAnreise\nMit der Bahn aus Berlin ist der Rosenwaldhof in ca. einer Stunde erreichbar. Brandenburg und Potsdam sind jeweils ca. 25 km entfernt. Mit der Bahn geht es bis Bahnhof Groß-Kreutz und dann mit dem Bus weiter. Bei Bedarf organisieren wir ein Sammeltaxi zu einer festen Uhrzeit. \n\n\n\n\nWeitere Information und Anmeldung für das Seminar und die Unterkunft bitte direkt beim Veranstalter (siehe unten).\n
URL:https://www.rosenwaldhof.de/event/malen-mit-luisa-landsberg/
LOCATION:Rosenwaldhof\, Bergstraße 2\, Groß Kreutz (Havel)\, 14550\, Deutschland
GEO:52.4428131;12.7341275
X-APPLE-STRUCTURED-LOCATION;VALUE=URI;X-ADDRESS=Rosenwaldhof Bergstraße 2 Groß Kreutz (Havel) 14550 Deutschland;X-APPLE-RADIUS=500;X-TITLE=Bergstraße 2:geo:12.7341275,52.4428131
ATTACH;FMTTYPE=image/jpeg:https://www.rosenwaldhof.de/wp-content/uploads/2018/07/Luisa_small.jpg
ORGANIZER;CN="WomenFairTravel":MAILTO:info@womenfairtravel.com
END:VEVENT
END:VCALENDAR